BEGIN:VCALENDAR
PRODID:NingEventWidget-v1
VERSION:2.0
METHOD:PUBLISH
BEGIN:VTIMEZONE
TZID:America/Boise
X-LIC-LOCATION:America/Boise
BEGIN:DAYLIGHT
TZOFFSETFROM:-0700
TZOFFSETTO:-0600
TZNAME:MDT
DTSTART:19700308T020000
RRULE:FREQ=YEARLY;BYMONTH=3;BYDAY=2SU
END:DAYLIGHT
BEGIN:STANDARD
TZOFFSETFROM:-0600
TZOFFSETTO:-0700
TZNAME:MST
DTSTART:19701101T020000
RRULE:FREQ=YEARLY;BYMONTH=11;BYDAY=1SU
END:STANDARD
END:VTIMEZONE
BEGIN:VEVENT
UID:2985220:Event:509571
DTSTAMP:20260420T012554Z
SUMMARY:Digital Process: Generative Design Technologies Workshop
DESCRIPTION:[LEON-15 al 19 de Febrero]Complex Geometry (www.complexgeo
 metry.com) en colaboraciÃ³n con DesignNest (http://www.designnest-labs
 .blogspot.com/) y Chido Studio (www.chidostudio.com)se complace en pre
 sentar Digital Process: Generative Design Technologies Workshop; Talle
 r especializado que se llevara a cabo en 4 de las ciudades mas importa
 ntes de la republica mexicana [Puebla] [Mexico DF] [Guadalajara] [Leon
 ] en Enero y Febrero de 2012.http://gendesigntech.wordpress.com/\n\nEn
 focado principalmente a arquitectos, diseÃ±adores industriales, diseÃ±
 adores de interiores, Urbanistas, Artistas digitales, estudiantes y pr
 ofesionistas afines al diseÃ±o; este Workshop tiene como objetivo prop
 orcionar a los participantes los conocimientos y recursos tecnolÃ³gico
 s que les permitan desarrollar los elementos de un proyecto desde la c
 oncepciÃ³n hasta su aplicaciÃ³n de manera completa.ApoyÃ¡ndose en un c
 onjunto potente y flexible de plataformas, los participantes aprenderÃ
 ¡n a generar, analizar y racionalizar morfologÃ­as complejas, formas o
 rgÃ¡nicas libres y algoritmos computacionales avanzados asÃ­ como a pr
 oducir visualizaciones fotorealÃ­stas aplicables en diversos proyectos
  de DiseÃ±o.A lo largo de 5 dias de intenso trabajo, exploraciÃ³n y re
 troalimentaciÃ³n los participantes seran guiados en el desarrollo de u
 n flujo de trabajo mas dinamico, que les permitira explotar al maximo 
 el potencial de las herramientas y potencializar sus habilidades, apti
 tudes y capacidades.Instructores:Leonardo Nuevo Arenas [Complex Geomet
 ry]JosÃ© Eduardo SÃ¡nchez [DesignNest]Daniel Camiro/Luis de la Parra [
 Chido Studio]http://issuu.com/chidostudiodiseno/docs/digproworkConoce 
 el programa aquÃ­.http://gendesigntech.wordpress.com/program/Para regi
 strarte por favor visita.http://gendesigntech.wordpress.com/registro\n
 \nFor more information visit https://www.grasshopper3d.com/events/digi
 tal-process-generative-design-technologies-workshop-3
DTSTART;TZID=America/Boise:20120215T150000
DTEND;TZID=America/Boise:20120219T213000
CATEGORIES:workshop, taller
LOCATION:Leon, Guanajuato
WEBSITE:http://gendesigntech.wordpress.com/
URL:http://gendesigntech.wordpress.com/
CONTACT:33 3956 9209
ORGANIZER:[Complex Geometry] www.complexgeometry.com
ATTACH;FMTTYPE="image/jpeg":http://storage.ning.com/topology/rest/1.0/
 file/get/2827910778?profile=original
ATTENDEE;ROLE=REQ-PARTICIPANT;PARTSTAT=ACCEPTED;RSVP=TRUE;CN="andre ay
 ala":https://www.grasshopper3d.com/profile/andreayala
ATTENDEE;ROLE=REQ-PARTICIPANT;PARTSTAT=ACCEPTED;RSVP=TRUE;CN="Leonardo
  Nuevo Arenas":https://www.grasshopper3d.com/profile/nuarle
END:VEVENT
END:VCALENDAR
