BEGIN:VCALENDAR
PRODID:NingEventWidget-v1
VERSION:2.0
METHOD:PUBLISH
BEGIN:VTIMEZONE
TZID:America/Boise
X-LIC-LOCATION:America/Boise
BEGIN:DAYLIGHT
TZOFFSETFROM:-0700
TZOFFSETTO:-0600
TZNAME:MDT
DTSTART:19700308T020000
RRULE:FREQ=YEARLY;BYMONTH=3;BYDAY=2SU
END:DAYLIGHT
BEGIN:STANDARD
TZOFFSETFROM:-0600
TZOFFSETTO:-0700
TZNAME:MST
DTSTART:19701101T020000
RRULE:FREQ=YEARLY;BYMONTH=11;BYDAY=1SU
END:STANDARD
END:VTIMEZONE
BEGIN:VEVENT
UID:2985220:Event:338550
DTSTAMP:20260420T022402Z
SUMMARY:Digital Practice: Hong Kong
DESCRIPTION:International Summer Programme in computational design.\nÂ
  \nOfficial Website:Â http://fac.arch.hku.hk/Summer/hk/DP/index.htm\nW
 orkshop Blog:Â http://www.dreamationworks.com/?p=555\nÂ \nFor a succes
 sful architectural project, the efficiency of design communication and
  the control of information-flow are as important as the creativity of
  ideas. In response to the concurrent digital evolution emerging in th
 e architectural industry world-wide, the Faculty of Architecture at Th
 e University of Hong Kong will host a two week intensive summer progra
 m named Digital Practice.Led by professors from The University of Hong
  Kong, as well as invited practitioners with expertise in practice of 
 cutting edge digital techniques, the program offers participants oppor
 tunities to experience applications of computational tools during diff
 erent stages of an architectural project, i.e. concept design, form fi
 nding and optimization, delivery, management and communication of desi
 gn information under the team-based working environment. By learning a
 dvanced computational techniques through case studies in the context o
 f Hong Kong, participants are expected to go beyond the conventional p
 erception of technology, considering users and tools as a feedback-bas
 ed entity instead of a dichotomy. The program, which is taught in Engl
 ish, includes a series of evening lectures related delivered by teachi
 ng staff and invited local architects.å°æ–¼é«˜å“è³ªçš„å»ºç¯‰å°ˆæ¡ˆï¼
 Œå‰µæ„ä¹‹å¤–ï¼Œå°ˆæ¡ˆéŽç¨‹ä¸­é«˜æ•ˆçš„è¨­è¨ˆè³‡è¨Šç®¡ç†å’Œäº¤æµæˆ
 ç‚ºé …ç›®è¨­è¨ˆæ·±åŒ–å’Œå¯¦æ–½å¿…ä¸å¯å°‘çš„ç’°ç¯€ã€‚ä»Šå¤©ï¼Œæ•¸å­—å
 Œ–æŠ€è¡“ä¸ä½†æ”¹è®Šäº†å»ºç¯‰å¸«çš„ç¹ªåœ–å·¥å…·ï¼Œå½±éŸ¿äº†è¨­è¨ˆçš„é
 Žç¨‹ï¼Œè€Œä¸”æä¾›äº†å·¥ç¨‹å»ºé€ å’Œç®¡ç†å¯¦æ–½çš„æ›´æœ‰æ•ˆã€æ›´é«˜
 æ•ˆçš„æ‰‹æ®µã€‚é‡å°å»ºç¯‰çš„æ•¸ä½åŒ–æ¼”é€²ï¼Œé¦™æ¸¯å¤§å­¸å»ºç¯‰å­¸é
 ™¢å°‡æ–¼2011å¹´æš‘å‡æœŸé–“ï¼Œåœ¨é¦™æ¸¯å¤§å­¸å»ºç¯‰å­¸é™¢èˆ‰è¾¦â€œæ•¸ä
 ½åŒ–å¯¦è¸â€åœ‹éš›ç ”ç¿’ç­ã€‚åœ¨é¦™æ¸¯å¤§å­¸å»ºç¯‰å­¸é™¢æ•™æŽˆåŠæœ
 ‰è‘—ç›¸é—œè±å¯Œç¶“é©—çš„å¤–è˜å¯¦è¸å»ºç¯‰å¸«çš„æŒ‡å°Žä¸‹ï¼Œå­¸å“¡å°‡
 æœ‰æ©Ÿæœƒé«”é©—åœ¨å°ˆæ¡ˆçš„ä¸åŒéšŽæ®µï¼ˆå¦‚æ¦‚å¿µè¨­è¨ˆã€è¨­è¨ˆå½¢å
 ¼çš„ç”Ÿæˆã€å„ªåŒ–ï¼Œè¨­è¨ˆè³‡è¨Šçš„ç®¡ç†å’Œäº¤æµï¼‰ï¼Œå¦‚ä½•æœ‰æ•
 ˆåœ°æ‡‰ç”¨å„ç¨®é‹ç®—æ™ºæ…§åŒ–æŠ€è¡“ï¼ˆå¾žè¨­è¨ˆçš„æ•¸ä½åŒ–ç”Ÿæˆå’Œ
 å»ºç¯‰è³‡è¨Šé¡žæ¯”åˆ°ç‰©ç†æ¨¡åž‹ï¼‰ï¼Œæå‡è¨­è¨ˆå¯¦æ–½çš„å“è³ªï¼Œå
 ¢žåŠ è¨­è¨ˆåœ˜éšŠå°æ–¼æ–¹æ¡ˆçš„æŽ§åˆ¶ã€‚æˆ‘å€‘å°‡æŒ‘æˆ°å°æ–¼â€œæŠ€è¡
 “â€çš„å‚³çµ±èªçŸ¥ï¼Œå³ç›¸å°æ–¼ä½¿ç”¨è€…å®ƒä¸åƒ…æ˜¯å·¥å…·ï¼Œæ›´æ˜¯
 èˆ‡ä½¿ç”¨è€…äº’å‹•çš„åª’ä»‹ï¼ŒäºŒè€…å½¢æˆä¸€å€‹æœ‰æ©Ÿçš„åˆé«”ã€‚ç ”ç
 ¿’ç­æœŸé–“æœƒå®‰æŽ’ç³»åˆ—è¬›åº§ï¼Œå±•ç¾æ•¸ä½åŒ–æŠ€è¡“åœ¨å¯¦è¸å·¥ç¨
 ‹ä¸­çš„å»£æ³›æ‡‰ç”¨ã€‚\n\nFor more information visit https://www.grass
 hopper3d.com/events/digital-practice-hong-kong
DTSTART;TZID=America/Boise:20110801T000000
DTEND;TZID=America/Boise:20110813T235900
CATEGORIES:computational, workshop
LOCATION:Faculty of Architecture, The University of Hong Kong
WEBSITE:http://fac.arch.hku.hk/Summer/hk/DP/
URL:http://fac.arch.hku.hk/Summer/hk/DP/
CONTACT:
ORGANIZER:Faculty of Architecture, The University of Hong Kong
ATTACH;FMTTYPE="image/jpeg":http://storage.ning.com/topology/rest/1.0/
 file/get/2827812484?profile=original
ATTENDEE;ROLE=REQ-PARTICIPANT;PARTSTAT=ACCEPTED;RSVP=TRUE;CN="Victor L
 eung":https://www.grasshopper3d.com/profile/VictorLeung
END:VEVENT
END:VCALENDAR
