BEGIN:VCALENDAR
PRODID:NingEventWidget-v1
VERSION:2.0
METHOD:PUBLISH
BEGIN:VTIMEZONE
TZID:America/Boise
X-LIC-LOCATION:America/Boise
BEGIN:DAYLIGHT
TZOFFSETFROM:-0700
TZOFFSETTO:-0600
TZNAME:MDT
DTSTART:19700308T020000
RRULE:FREQ=YEARLY;BYMONTH=3;BYDAY=2SU
END:DAYLIGHT
BEGIN:STANDARD
TZOFFSETFROM:-0600
TZOFFSETTO:-0700
TZNAME:MST
DTSTART:19701101T020000
RRULE:FREQ=YEARLY;BYMONTH=11;BYDAY=1SU
END:STANDARD
END:VTIMEZONE
BEGIN:VEVENT
UID:2985220:Event:1980485
DTSTAMP:20260422T072740Z
SUMMARY:Digital Design and Production in Architecture - INDEXLAB works
 hops 2019
DESCRIPTION:The workshop Digital Design and Production in Architecture
 , organized by INDEXLAB – Politecnico di Milano, has the objective t
 o offer a new vision on architecture and its manufacturing methodologi
 es. The workshop aims at bringing together visionary companies, advanc
 ed designers and innovation-oriented students to envision new synergie
 s between academic research, architectural practice and industrial pro
 duction.\nJOIN INDEXLAB CONTINUING EDUCATION WORKSHOPS 2019 (1-13 July
 ), VISIT:\nhttp://www.indexlab.it/workshop2019/\n\n1-2 July, MODULE A:
  Robotic hotwire cutting + thermoforming\n3-4 July, MODULE B: Robotic 
 3D printing + casting\n5-6 July, MODULE C: Robotic wood cutting and as
 sembly\n8-9 July, MODULE D: Robotic pick-and-place\n10-11 July, MODULE
  E: Dynamic responsive systems\n12-13 July, MODULE F: New methods for 
 designing complex buildings\n\n\nFor more information visit https://ww
 w.grasshopper3d.com/events/digital-design-and-production-in-architectu
 re-indexlab-workshops
DTSTART;TZID=America/Boise:20190601T000000
DTEND;TZID=America/Boise:20190613T235900
CATEGORIES:workshop
LOCATION:Lecco (IT)
WEBSITE:https://www.google.com/maps/place/Politecnico+di+Milano+-+Polo
 +territoriale+di+Lecco/@45.8491331,9.3971109,15z/data=!4m2!3m1!1s0x0:0
 x692d770a494fc60f?sa=X&amp;ved=2ahUKEwjWw4vK6uXhAhUKyKQKHTzCAVEQ_BIwDX
 oECAgQCA
URL:https://www.google.com/maps/place/Politecnico+di+Milano+-+Polo+ter
 ritoriale+di+Lecco/@45.8491331,9.3971109,15z/data=!4m2!3m1!1s0x0:0x692
 d770a494fc60f?sa=X&amp;ved=2ahUKEwjWw4vK6uXhAhUKyKQKHTzCAVEQ_BIwDXoECA
 gQCA
CONTACT:
ORGANIZER:IndexLab
ATTACH;FMTTYPE="image/jpeg":https://storage.ning.com/topology/rest/1.0
 /file/get/2137432053?profile=original
ATTENDEE;ROLE=REQ-PARTICIPANT;PARTSTAT=ACCEPTED;RSVP=TRUE;CN="Carlo Be
 ltracchi":https://www.grasshopper3d.com/profile/Carlo_Beltracchi
END:VEVENT
END:VCALENDAR
