BEGIN:VCALENDAR
PRODID:NingEventWidget-v1
VERSION:2.0
METHOD:PUBLISH
BEGIN:VTIMEZONE
TZID:America/Boise
X-LIC-LOCATION:America/Boise
BEGIN:DAYLIGHT
TZOFFSETFROM:-0700
TZOFFSETTO:-0600
TZNAME:MDT
DTSTART:19700308T020000
RRULE:FREQ=YEARLY;BYMONTH=3;BYDAY=2SU
END:DAYLIGHT
BEGIN:STANDARD
TZOFFSETFROM:-0600
TZOFFSETTO:-0700
TZNAME:MST
DTSTART:19701101T020000
RRULE:FREQ=YEARLY;BYMONTH=11;BYDAY=1SU
END:STANDARD
END:VTIMEZONE
BEGIN:VEVENT
UID:2985220:Event:473442
DTSTAMP:20260423T090019Z
SUMMARY:Designing the Dynamic Symposium
DESCRIPTION:A one day Symposium on real time dynamic feedback. Speaker
 s include Hugh Whitehead (Head of Foster's Specialist Modelling group)
 , Mark Burry (Executive Architect on Sagrada Família) and John Frazer
  (Author of An Evolutionary Architecture).\n \nSee full details and r
 egister for the event at http://designingthedynamic.com/symposium/\n\n
 For more information visit https://www.grasshopper3d.com/events/design
 ing-the-dynamic-symposium
DTSTART;TZID=America/Boise:20111125T000000
DTEND;TZID=America/Boise:20111125T235900
CATEGORIES:workshop, "+", symposium
LOCATION:RMIT University
WEBSITE:http://designingthedynamic.com/symposium/
URL:http://designingthedynamic.com/symposium/
CONTACT:
ORGANIZER;CN="Daniel Davis":https://www.grasshopper3d.com/profile/Dani
 elDavis
ATTACH;FMTTYPE="image/jpeg":http://storage.ning.com/topology/rest/1.0/
 file/get/2827869825?profile=original
ATTENDEE;ROLE=REQ-PARTICIPANT;PARTSTAT=ACCEPTED;RSVP=TRUE;CN="Daniel D
 avis":https://www.grasshopper3d.com/profile/DanielDavis
END:VEVENT
END:VCALENDAR
