BEGIN:VCALENDAR
PRODID:NingEventWidget-v1
VERSION:2.0
METHOD:PUBLISH
BEGIN:VTIMEZONE
TZID:America/Boise
X-LIC-LOCATION:America/Boise
BEGIN:DAYLIGHT
TZOFFSETFROM:-0700
TZOFFSETTO:-0600
TZNAME:MDT
DTSTART:19700308T020000
RRULE:FREQ=YEARLY;BYMONTH=3;BYDAY=2SU
END:DAYLIGHT
BEGIN:STANDARD
TZOFFSETFROM:-0600
TZOFFSETTO:-0700
TZNAME:MST
DTSTART:19701101T020000
RRULE:FREQ=YEARLY;BYMONTH=11;BYDAY=1SU
END:STANDARD
END:VTIMEZONE
BEGIN:VEVENT
UID:2985220:Event:1803399
DTSTAMP:20260423T192443Z
SUMMARY:Design Modelling Symposium Paris - Karamba Masterclass
DESCRIPTION:This years Design Modelling Symposium will be on the topi
 c: \"Humanizing digital reality\".\nKaramba will be featured in a mast
 erclass lead by Moritz Heimrath & Adam Orlinski as part of the Design 
 Modelling Symposium in Paris. Participants will look at translating fo
 rce flow patterns of shell structures into 3d printed fibrous systems 
 during the two day masterclass.\nRegistrations are still open for the 
 masterclass running from 16-17 September and the symposium itself runs
  from 18-20 September.\n\nFor more information visit https://www.grass
 hopper3d.com/events/design-modelling-symposium-paris-karamba-mastercla
 ss
DTSTART;TZID=America/Boise:20170825T180000
DTEND;TZID=America/Boise:20170825T190000
CATEGORIES:symposium, "&amp", workshop
LOCATION:Ecole Nationale Supérieure d'Architecture de Versailles (ENS
 A-V)
WEBSITE:https://www.design-modelling-symposium.de/frontend/index.php?s
 ub=25
URL:https://www.design-modelling-symposium.de/frontend/index.php?sub=2
 5
CONTACT:
ORGANIZER;CN=Karamba3D:https://www.grasshopper3d.com/profile/karamba
ATTACH;FMTTYPE="image/jpeg":http://storage.ning.com/topology/rest/1.0/
 file/get/2829853241?profile=original
ATTENDEE;ROLE=REQ-PARTICIPANT;PARTSTAT=ACCEPTED;RSVP=TRUE;CN=Karamba3D
 :https://www.grasshopper3d.com/profile/karamba
END:VEVENT
END:VCALENDAR
