BEGIN:VCALENDAR
PRODID:NingEventWidget-v1
VERSION:2.0
METHOD:PUBLISH
BEGIN:VTIMEZONE
TZID:America/Boise
X-LIC-LOCATION:America/Boise
BEGIN:DAYLIGHT
TZOFFSETFROM:-0700
TZOFFSETTO:-0600
TZNAME:MDT
DTSTART:19700308T020000
RRULE:FREQ=YEARLY;BYMONTH=3;BYDAY=2SU
END:DAYLIGHT
BEGIN:STANDARD
TZOFFSETFROM:-0600
TZOFFSETTO:-0700
TZNAME:MST
DTSTART:19701101T020000
RRULE:FREQ=YEARLY;BYMONTH=11;BYDAY=1SU
END:STANDARD
END:VTIMEZONE
BEGIN:VEVENT
UID:2985220:Event:1366467
DTSTAMP:20260423T213600Z
SUMMARY:Design Modelling Symposium Copenhagen 2015 Modelling Behaviour
DESCRIPTION:The Design Modelling Symposium Copenhagen 2015 is hosted b
 y CITA and is the first conference, which takes place within the Com
 plex Modelling project.\nThe conference on September 30th – October 
 2nd and the four 2-day workshops and oneMaster Class preceding the 
 event, provide a unique opportunity for practitioners to gather theore
 tical and practical knowledge and expertise in the current state and t
 echnology for the increasingly relevant modelling practices in archite
 cture and engineering. A focus in the workshop is to provide knowledge
  and tool, which are directly applicable in practice.\nThe workshops a
 nd Master Class are hence ran by leading researchers and practitioners
  from high profile companies and universities including KieranTimberl
 ake, designtoproduction, HAL-Robotics, Bollinger-Grohmann, Berkley and
  Harvard University, who will share their expertise and latest develop
 ments.\nWe hope that you and your colleagues are taking the chance to 
 register for the workshop and join the event. The Workshops and Master
  Class fee of 460 Euros includes entry to the conference. The conferen
 ce only fees is 320 Euro (professional). A reduced fee is available fo
 r students.\nPlease find more information and the registration here\n\
 nFor more information visit https://www.grasshopper3d.com/events/desig
 n-modelling-symposium-copenhagen-2015-modelling-behaviour-2
DTSTART;TZID=America/Boise:20150930T090000
DTEND;TZID=America/Boise:20151002T170000
CATEGORIES:international, conference, for, architects, and, engineers
LOCATION:The Royal Danish Academy of Fine Arts, Schools of Architectur
 e, Design and Conservation
WEBSITE:https://design-modelling-symposium.de
URL:https://design-modelling-symposium.de
CONTACT:
ORGANIZER;CN="Martin Tamke":https://www.grasshopper3d.com/profile/Mart
 inTamke
ATTACH;FMTTYPE="image/jpeg":http://storage.ning.com/topology/rest/1.0/
 file/get/2829069638?profile=original
ATTENDEE;ROLE=REQ-PARTICIPANT;PARTSTAT=ACCEPTED;RSVP=TRUE;CN="Thomas P
 erkov":https://www.grasshopper3d.com/profile/ThomasPerkov
ATTENDEE;ROLE=REQ-PARTICIPANT;PARTSTAT=ACCEPTED;RSVP=TRUE;CN="Anders H
 olden Deleuran":https://www.grasshopper3d.com/profile/AndersHoldenDele
 uran
ATTENDEE;ROLE=REQ-PARTICIPANT;PARTSTAT=ACCEPTED;RSVP=TRUE;CN="Martin T
 amke":https://www.grasshopper3d.com/profile/MartinTamke
END:VEVENT
END:VCALENDAR
