BEGIN:VCALENDAR
PRODID:NingEventWidget-v1
VERSION:2.0
METHOD:PUBLISH
BEGIN:VTIMEZONE
TZID:America/Boise
X-LIC-LOCATION:America/Boise
BEGIN:DAYLIGHT
TZOFFSETFROM:-0700
TZOFFSETTO:-0600
TZNAME:MDT
DTSTART:19700308T020000
RRULE:FREQ=YEARLY;BYMONTH=3;BYDAY=2SU
END:DAYLIGHT
BEGIN:STANDARD
TZOFFSETFROM:-0600
TZOFFSETTO:-0700
TZNAME:MST
DTSTART:19701101T020000
RRULE:FREQ=YEARLY;BYMONTH=11;BYDAY=1SU
END:STANDARD
END:VTIMEZONE
BEGIN:VEVENT
UID:2985220:Event:429259
DTSTAMP:20260424T162534Z
SUMMARY:Design Modelling Symposium 2011 - Complexity and Responsibilit
 y
DESCRIPTION:Excerpt:\n...The complexity of the interconnected and ofte
 n competing information required to shape a building - be it explicitl
 y describable or not - still remains a challenge for contemporary comp
 utational processes. A future architectural practice needs to cultivat
 e a critical awareness of such limitations in order to develop success
 ful future strategies for design interaction and implementation of com
 putational possibilities.  This critical dialogue aims to expand the f
 indings of computational processes within the field of architecture to
  develop a broader and less exotic building practice that bears more s
 ubtle but powerful traces of the complex tool set and approaches we ha
 ve developed and studied over recent years.  With this symposium, thus
  we would like to promote discussion on new strategies for a reasonabl
 e and innovative implementation of digital potential in truly innovati
 ve and radical design guided by both responsibility towards processes 
 and the consequences they initiate.\n\nFor more information visit http
 s://www.grasshopper3d.com/events/design-modelling-symposium-2011-compl
 exity-and-responsibility
DTSTART;TZID=America/Boise:20111010T000000
DTEND;TZID=America/Boise:20111012T235900
CATEGORIES:conference
LOCATION:Universität der Künste Berlin
WEBSITE:http://design-modelling-symposium.de/
URL:http://design-modelling-symposium.de/
CONTACT:+49 30-69807681
ORGANIZER:University of Arts Berlin
ATTACH;FMTTYPE="image/jpeg":http://storage.ning.com/topology/rest/1.0/
 file/get/2827826770?profile=original
ATTENDEE;ROLE=REQ-PARTICIPANT;PARTSTAT=ACCEPTED;RSVP=TRUE;CN="Giulio P
 iacentino":https://www.grasshopper3d.com/profile/GiulioPiacentino
ATTENDEE;ROLE=REQ-PARTICIPANT;PARTSTAT=ACCEPTED;RSVP=TRUE;CN="Alessio 
 Erioli":https://www.grasshopper3d.com/profile/Ale2x72
ATTENDEE;ROLE=REQ-PARTICIPANT;PARTSTAT=ACCEPTED;RSVP=TRUE;CN="corneel 
 cannaerts":https://www.grasshopper3d.com/profile/corneelcannaerts
ATTENDEE;ROLE=REQ-PARTICIPANT;PARTSTAT=ACCEPTED;RSVP=TRUE;CN=michaeldr
 obnik:https://www.grasshopper3d.com/profile/michaeldrobnik
ATTENDEE;ROLE=REQ-PARTICIPANT;PARTSTAT=ACCEPTED;RSVP=TRUE;CN="Carlos P
 érez":https://www.grasshopper3d.com/profile/CarlosPerez
ATTENDEE;ROLE=REQ-PARTICIPANT;PARTSTAT=ACCEPTED;RSVP=TRUE;CN="Christop
 h Gengnagel":https://www.grasshopper3d.com/profile/ChristophGengnagel
ATTENDEE;ROLE=REQ-PARTICIPANT;PARTSTAT=ACCEPTED;RSVP=TRUE;CN="Ioannis 
 Zonitsas":https://www.grasshopper3d.com/profile/IoannisZonitsas
ATTENDEE;ROLE=REQ-PARTICIPANT;PARTSTAT=TENTATIVE;RSVP=TRUE;CN=H:https:
 //www.grasshopper3d.com/profile/H447
END:VEVENT
END:VCALENDAR
