BEGIN:VCALENDAR
PRODID:NingEventWidget-v1
VERSION:2.0
METHOD:PUBLISH
BEGIN:VTIMEZONE
TZID:America/Boise
X-LIC-LOCATION:America/Boise
BEGIN:DAYLIGHT
TZOFFSETFROM:-0700
TZOFFSETTO:-0600
TZNAME:MDT
DTSTART:19700308T020000
RRULE:FREQ=YEARLY;BYMONTH=3;BYDAY=2SU
END:DAYLIGHT
BEGIN:STANDARD
TZOFFSETFROM:-0600
TZOFFSETTO:-0700
TZNAME:MST
DTSTART:19701101T020000
RRULE:FREQ=YEARLY;BYMONTH=11;BYDAY=1SU
END:STANDARD
END:VTIMEZONE
BEGIN:VEVENT
UID:2985220:Event:1911072
DTSTAMP:20260424T012506Z
SUMMARY:Design Computing Summer School 2018
DESCRIPTION:The Design Computation Summer School 2018 is an initiativ
 e of the Design and Computation Group (DCG) of Faculdade de Arquitetur
 a, University of Lisbon.\nIt will be a space for discussing new ideas 
 and new applications of advanced concepts in architecture and urbanism
  by exploring the given tools and methods. The main idea of this set o
 f workshops is to share advanced knowledge on the related subjects and
  get feedback from the participants.\nWe expect to grow our network of
  highly specialized researchers and expand the use of our methods and 
 tools by providing a hands-on experience.\n\nFor more information visi
 t https://www.grasshopper3d.com/events/design-computing-summer-school-
 2018
DTSTART;TZID=America/Boise:20180625T000000
DTEND;TZID=America/Boise:20180706T235900
CATEGORIES:workshops
LOCATION:Faculdade de Arquitetura, Universidade de Lisboa
WEBSITE:http://dcgsummerschool2018.fa.ulisboa.pt/
URL:http://dcgsummerschool2018.fa.ulisboa.pt/
CONTACT:213615000
ORGANIZER:DCG - Design and Computation Group
ATTACH;FMTTYPE="image/jpeg":http://storage.ning.com/topology/rest/1.0/
 file/get/2830030102?profile=original
ATTENDEE;ROLE=REQ-PARTICIPANT;PARTSTAT=ACCEPTED;RSVP=TRUE;CN="Rui de K
 lerk":https://www.grasshopper3d.com/profile/rvzkm
ATTENDEE;ROLE=REQ-PARTICIPANT;PARTSTAT=TENTATIVE;RSVP=TRUE;CN=JennySmi
 th:https://www.grasshopper3d.com/profile/BrendaCristen
END:VEVENT
END:VCALENDAR
