BEGIN:VCALENDAR
PRODID:NingEventWidget-v1
VERSION:2.0
METHOD:PUBLISH
BEGIN:VTIMEZONE
TZID:America/Boise
X-LIC-LOCATION:America/Boise
BEGIN:DAYLIGHT
TZOFFSETFROM:-0700
TZOFFSETTO:-0600
TZNAME:MDT
DTSTART:19700308T020000
RRULE:FREQ=YEARLY;BYMONTH=3;BYDAY=2SU
END:DAYLIGHT
BEGIN:STANDARD
TZOFFSETFROM:-0600
TZOFFSETTO:-0700
TZNAME:MST
DTSTART:19701101T020000
RRULE:FREQ=YEARLY;BYMONTH=11;BYDAY=1SU
END:STANDARD
END:VTIMEZONE
BEGIN:VEVENT
UID:2985220:Event:464294
DTSTAMP:20260423T104911Z
SUMMARY:Data Vs Information_ Parametric Design + Digital Fabrication W
 orkshop
DESCRIPTION:Workshop Brief:\n \nNowadays, in a globalized networked d
 igital world, data is more accessible than ever. Digital Data is both 
 abundant and ubiquitous and come in various forms and structures. At t
 he same time it is often supported that data is not of any significanc
 e if it is not organised or perceived within a certain context.\n[DvsI
 ] is the sequel of last year’s workshop [RvsR], which concluded to t
 he fact that gathering/generating,filtering and conveying information 
 presents a new frontier for Parametric Design. Before exploring such f
 rontiers, one has to clearly define the relation and interdependencies
  betweendata and information. DvsI, aims in researching, understanding
  and utilising the dipole data/information,and applying it in design t
 hrough the possibilities facilitated by parametric design and digital 
 fabricationtools and methods.\nThe workshop is consequently expected t
 o address the following questions:\nWhere can we search for such data 
 sources and how can we transform them into usable design information?H
 ow do parametric design tools and digital fabrication methods allow ha
 rvesting, mapping andexploiting data/information? Can we support and d
 rive our designs based on such informational foundations?What are the 
 gains from applying these methods for both the design process and prod
 uct?\n\n\nFor more information visit https://www.grasshopper3d.com/eve
 nts/data-vs-information
DTSTART;TZID=America/Boise:20111121T090000
DTEND;TZID=America/Boise:20111125T210000
CATEGORIES:workshop
LOCATION:[A.R.C.], Nicosia, CYPRUS
WEBSITE:
URL:
CONTACT:
ORGANIZER:A.R.C University of Nicosia, Cyprus
ATTACH;FMTTYPE="image/jpeg":http://storage.ning.com/topology/rest/1.0/
 file/get/2827863639?profile=original
ATTENDEE;ROLE=REQ-PARTICIPANT;PARTSTAT=ACCEPTED;RSVP=TRUE;CN="Odysseas
  Georgiou":https://www.grasshopper3d.com/profile/OdysseasGeorgiou
END:VEVENT
END:VCALENDAR
