BEGIN:VCALENDAR
PRODID:NingEventWidget-v1
VERSION:2.0
METHOD:PUBLISH
BEGIN:VTIMEZONE
TZID:America/Boise
X-LIC-LOCATION:America/Boise
BEGIN:DAYLIGHT
TZOFFSETFROM:-0700
TZOFFSETTO:-0600
TZNAME:MDT
DTSTART:19700308T020000
RRULE:FREQ=YEARLY;BYMONTH=3;BYDAY=2SU
END:DAYLIGHT
BEGIN:STANDARD
TZOFFSETFROM:-0600
TZOFFSETTO:-0700
TZNAME:MST
DTSTART:19701101T020000
RRULE:FREQ=YEARLY;BYMONTH=11;BYDAY=1SU
END:STANDARD
END:VTIMEZONE
BEGIN:VEVENT
UID:2985220:Event:1022808
DTSTAMP:20260423T154839Z
SUMMARY:DATA TREES : workshop d’architecture paramétrique
DESCRIPTION:\nCet atelier d’architecture paramétrique est conçu co
 mme une formation d’initiation aux principe du design procedural et 
 au plug-in de programmation visuelle Grasshopper.\nCes deux journées
  – 5 et 6 avril 2014 – visent à fournir une bonne compréhension 
 des principes fondamentaux et des avantages de l’utilisation de la 
 modélisation paramétrique avec Grasshopper pour Rhinoceros3D ainsi 
 que démontrer plusieurs façons de l’appliquer à votre travail arc
 hitectural.\nCette formation est conçue comme une expérience augment
 ée autour de l’architecture paramétrique incluant aussi :\n\n+ La 
 conférence Architecture Paramétrique et Network Thinking par Fran
 cesco Cingolani\n+ Une étude de cas de plusieurs projets d’architec
 ture conçus à partir d’outils paramétriques (Nouvelle couverture 
 des Arts de l’Islam au Louvre, Façade tourbillon de la Philharmoni
 e de Paris, etc…)\n+ Accès privilégié à l’espace de coworking
  / atelier de fabrication VOLUMES (ouverture courant 2014, condition
 s à définir)\n\nDétails et inscriptions sur architectureparametriq
 ue.com/data\n\nFor more information visit https://www.grasshopper3d.co
 m/events/data-trees-workshop-d-architecture-param-trique
DTSTART;TZID=America/Boise:20140404T100000
DTEND;TZID=America/Boise:20140405T190000
CATEGORIES:workshop
LOCATION:Superbelleville coworking
WEBSITE:https://www.google.it/maps/place/5+Passage+Piver/@48.870093,2.
 374377,17z/data=!4m2!3m1!1s0x47e66de405587d75:0xbca4fa82c823b9af
URL:https://www.google.it/maps/place/5+Passage+Piver/@48.870093,2.3743
 77,17z/data=!4m2!3m1!1s0x47e66de405587d75:0xbca4fa82c823b9af
CONTACT:+652645109
ORGANIZER;CN="Francesco Cingolani":https://www.grasshopper3d.com/profi
 le/FrancescoCingolani
ATTACH;FMTTYPE="image/jpeg":http://storage.ning.com/topology/rest/1.0/
 file/get/2828496309?profile=original
ATTENDEE;ROLE=REQ-PARTICIPANT;PARTSTAT=ACCEPTED;RSVP=TRUE;CN="Francesc
 o Cingolani":https://www.grasshopper3d.com/profile/FrancescoCingolani
END:VEVENT
END:VCALENDAR
