BEGIN:VCALENDAR
PRODID:NingEventWidget-v1
VERSION:2.0
METHOD:PUBLISH
BEGIN:VTIMEZONE
TZID:America/Boise
X-LIC-LOCATION:America/Boise
BEGIN:DAYLIGHT
TZOFFSETFROM:-0700
TZOFFSETTO:-0600
TZNAME:MDT
DTSTART:19700308T020000
RRULE:FREQ=YEARLY;BYMONTH=3;BYDAY=2SU
END:DAYLIGHT
BEGIN:STANDARD
TZOFFSETFROM:-0600
TZOFFSETTO:-0700
TZNAME:MST
DTSTART:19701101T020000
RRULE:FREQ=YEARLY;BYMONTH=11;BYDAY=1SU
END:STANDARD
END:VTIMEZONE
BEGIN:VEVENT
UID:2985220:Event:1029405
DTSTAMP:20260423T111955Z
SUMMARY:DATA BODIES workshop with Andrea Graziano
DESCRIPTION:Superbelleville coworking in Paris is announcing its next
  grasshopper workshop with Andrea Graziano.\n\nData by itself has no
  meaning. It fills databases. This data must be examined in order to b
 ecome meaningful. Humans must interact with it. Information arises w
 hen humans examine the data. Knowledge is created when information i
 s transformed through human social interactions.”  \nRichard Gayle
 via spacecollective\n\nThe space in which we live can be monitored i
 n many aspects and appears to be to be a gradient of data in continuou
 s evolution and change. One of the major advantages of parametric tool
 s is to be able to inform the design processes with accurate, specific
  and variable, in space and time, data streams .\nDATA BODIES is a Gra
 sshopper workshop that will focus on how its nature as an information
  processor and how it can be (ab)used in order to manipulate data, str
 eaming inputs from various sources and use datafeeds to inform geometr
 y or data structures from the very simple up to more complex ones. The
  aim is to give an understanding of information and data articultion a
 s already a spatial and architectural operation; results may range fro
 m pure data communication protocols, dataviz or data-driven geometries
  depending on the skill levels and aspirations of each participant. Th
 e brief is also open to the suggestions and opportunities that may ris
 e during the workflow.\nDETAILS: http://www.superbelleville.org/dataw
 orkshop/\n\nFor more information visit https://www.grasshopper3d.com/e
 vents/data-bodies-workshop-with-andrea-graziano
DTSTART;TZID=America/Boise:20140509T000000
DTEND;TZID=America/Boise:20140511T235900
CATEGORIES:workshop
LOCATION:Paris
WEBSITE:https://www.google.it/maps/place/5+Passage+Piver/@48.870093,2.
 374377,17z/data=!3m1!4b1!4m2!3m1!1s0x47e66de405587d75:0xbca4fa82c823b9
 af
URL:https://www.google.it/maps/place/5+Passage+Piver/@48.870093,2.3743
 77,17z/data=!3m1!4b1!4m2!3m1!1s0x47e66de405587d75:0xbca4fa82c823b9af
CONTACT:+33652645109
ORGANIZER;CN="Francesco Cingolani":https://www.grasshopper3d.com/profi
 le/FrancescoCingolani
ATTACH;FMTTYPE="image/jpeg":http://storage.ning.com/topology/rest/1.0/
 file/get/2828507514?profile=original
ATTENDEE;ROLE=REQ-PARTICIPANT;PARTSTAT=ACCEPTED;RSVP=TRUE;CN="Francesc
 o Cingolani":https://www.grasshopper3d.com/profile/FrancescoCingolani
END:VEVENT
END:VCALENDAR
