BEGIN:VCALENDAR
PRODID:NingEventWidget-v1
VERSION:2.0
METHOD:PUBLISH
BEGIN:VTIMEZONE
TZID:America/Boise
X-LIC-LOCATION:America/Boise
BEGIN:DAYLIGHT
TZOFFSETFROM:-0700
TZOFFSETTO:-0600
TZNAME:MDT
DTSTART:19700308T020000
RRULE:FREQ=YEARLY;BYMONTH=3;BYDAY=2SU
END:DAYLIGHT
BEGIN:STANDARD
TZOFFSETFROM:-0600
TZOFFSETTO:-0700
TZNAME:MST
DTSTART:19701101T020000
RRULE:FREQ=YEARLY;BYMONTH=11;BYDAY=1SU
END:STANDARD
END:VTIMEZONE
BEGIN:VEVENT
UID:2985220:Event:183815
DTSTAMP:20260420T003256Z
SUMMARY:Curso intensivo de Grasshopper, Madrid
DESCRIPTION:Objetivos  - Tomar contacto con Grasshopper, software de d
 iseño paramétrico para Rhinoceros, y adquirir los conocimientos para
  fabricar y editar geometría - Comprender los conceptos de geometría
  NURBS para poder parametrizarla - Entender cómo se gestionan los dat
 os con Grasshopper - Asociar formulaciones matemáticas a modelos para
 métricos - Panelizar y triangular superficies - Parametrizar estructu
 ras sencillas - Saber deformar modelos tridimensionales paramétricame
 nte - Elaboración de algoritmos simples y aplicarlos a modelos tridim
 ensionales - Exportar e importar tablas de datos\n \nEl curso será i
 mpartido por dos Authorized Rhino Trainers.\n También te informamos d
 e que hemos renovado el temario del curso, preparado específica y exc
 lusivamente por nosotros, y que es revisado y ampliado continuamente, 
 gracias a la experiencia de cursos anteriores.  El curso tiene un form
 ato intensivo de 18 horas, cuyo horario es:  - viernes, de 16 a 20;  -
  sábado, de 10 a 14 y de 16 a 20;  - domingo, de 11 a 14 y de 16 a 19
 .\n \nSi estás interesado en apuntarte, contáctanos en: cursos@frik
 earq.com\n\nFor more information visit https://www.grasshopper3d.com/e
 vents/curso-intensivo-de-grasshopper
DTSTART;TZID=America/Boise:20110408T160000
DTEND;TZID=America/Boise:20110410T190000
CATEGORIES:curso
LOCATION:Madrid
WEBSITE:http://cargocollective.com/frikearq#1008640/-INSCRIPCI-N-CURSO
 -NIVEL-I-8-ABRIL
URL:http://cargocollective.com/frikearq#1008640/-INSCRIPCI-N-CURSO-NIV
 EL-I-8-ABRIL
CONTACT:
ORGANIZER:frikearq.com
ATTACH;FMTTYPE="image/jpeg":http://storage.ning.com/topology/rest/1.0/
 file/get/2827772289?profile=original
ATTENDEE;ROLE=REQ-PARTICIPANT;PARTSTAT=ACCEPTED;RSVP=TRUE;CN="Miguel V
 idal":https://www.grasshopper3d.com/profile/MiguelVidal
ATTENDEE;ROLE=REQ-PARTICIPANT;PARTSTAT=TENTATIVE;RSVP=TRUE;CN="Beltrá
 n Fernández Mariño":https://www.grasshopper3d.com/profile/BeltranFer
 nandezMarino
END:VEVENT
END:VCALENDAR
