BEGIN:VCALENDAR
PRODID:NingEventWidget-v1
VERSION:2.0
METHOD:PUBLISH
BEGIN:VTIMEZONE
TZID:America/Boise
X-LIC-LOCATION:America/Boise
BEGIN:DAYLIGHT
TZOFFSETFROM:-0700
TZOFFSETTO:-0600
TZNAME:MDT
DTSTART:19700308T020000
RRULE:FREQ=YEARLY;BYMONTH=3;BYDAY=2SU
END:DAYLIGHT
BEGIN:STANDARD
TZOFFSETFROM:-0600
TZOFFSETTO:-0700
TZNAME:MST
DTSTART:19701101T020000
RRULE:FREQ=YEARLY;BYMONTH=11;BYDAY=1SU
END:STANDARD
END:VTIMEZONE
BEGIN:VEVENT
UID:2985220:Event:1503913
DTSTAMP:20260421T230502Z
SUMMARY:Curso Fundamentos de modelado de datos para arquitectos
DESCRIPTION:MAS INFO\n\nEste curso estÃ¡ diseÃ±ado para introducir a l
 os arquitectos, ingenieros y otros profesionales en el campo de la con
 strucciÃ³n de diseÃ±o, y construcciÃ³n para la programaciÃ³n de comput
 adoras con el idioma y herramienta \"processing\". El objetivo princip
 al del curso es desarrollar conocimientos y habilidades que permitan l
 a generaciÃ³n, modificaciÃ³n e intercambio de conjuntos de datos de in
 formaciÃ³n de construcciÃ³n, a travÃ©s de programaciÃ³n y scripting. L
 os participantes podrÃ¡n desarrollar un conocimiento teÃ³rico y prÃ¡ct
 ico de cÃ³mo las herramientas de software son construidas y operadas, 
 por medio de una comprensiÃ³n crÃ­tica de cÃ³mo Ã©stas contribuyen a l
 as prÃ¡cticas actuales de diseÃ±o de la industria de construcciÃ³n. El
  programa incentiva un enfoque multidisciplinario en el que se incluye
  la geometrÃ­a computacional, modelado paramÃ©trico, la infografÃ­a, l
 a arquitectura, la ingenierÃ­a estructural y diseÃ±o medioambiental.\n
 Edificios = Datos\nEn este curso se desarrollan habilidades en diseÃ±o
  computacional que permiten un alto nivel de control de estos conjunto
 s de datos, que son independientes de las plataformas de software espe
 cÃ­ficas. Control de datos se refiere a dos aspectos:Â estructura de d
 atos y secuencia de datos. Control de la estructura de datos tiene que
  ver con la capacidad de leer y modificar, o de definir y escribir una
  representaciÃ³n de la informaciÃ³n.Â Control de la secuencia de datos
 Â se refiere a la capacidad de definir los programas automatizados que
  permiten generar y poblar el conjunto de datos original para luego re
 alizar modificaciones de diseÃ±o segÃºn se requiera durante el desarro
 llo de un proyecto.\nÂ BIM (Building information modeling) y IPD (inte
 grated project delivery) amplificado:\nEn el nÃºcleo de cualquier BIM 
 existe un conjunto de datos multidimensional que describe el diseÃ±o p
 ropuesto en tÃ©rminos de geometrÃ­a y una variedad de propiedades. Las
  aplicaciones tÃ­picas de software BIM estÃ¡n diseÃ±adas principalment
 e como sistemas procedimentales (paso a paso) en los que el conjunto d
 e datos de construcciÃ³n estÃ¡ compilado y editado a travÃ©s de una in
 terfaz de modelado manual. El proceso de diseÃ±o contemporÃ¡neo exige 
 que mÃºltiples opciones de diseÃ±o que deben ser consideradas, analiza
 das y estudiadas en el proceso de desarrollo del diseÃ±o. La capacidad
  de automatizar y controlar la definiciÃ³n de las secuencias de datos 
 computacionales que generan la geometrÃ­a del edificio, se ha converti
 do por lo tanto, en una herramienta muy valiosa en el proceso de diseÃ
 ±o.\nEn teorÃ­a, todos los miembros de un proceso IPD trabajan directa
 mente desde un Ãºnico modelo central o conjunto de datos. En la prÃ¡ct
 ica, el diseÃ±o y el anÃ¡lisis se llevan a cabo en mÃºltiples platafor
 mas de software impulsado por la gama de conocimientos especializados 
 requeridos por las necesidades de cada proyecto. Cada software y espec
 ialista requiere un formato de archivo o estructura de datos que es es
 pecÃ­fica para su proceso. El profundo conocimiento, la capacidad de t
 ransferir entre ellas y modificar las estructuras de datos, es fundame
 ntal para el Ã©xito de IPD.\n\nFor more information visit https://www.
 grasshopper3d.com/events/curso-fundamentos-de-modelado-de-datos-para-a
 rquitectos
DTSTART;TZID=America/Boise:20160426T170000
DTEND;TZID=America/Boise:20160521T130000
CATEGORIES:processing, training
LOCATION:Universidad de los Andes
WEBSITE:https://educacioncontinuada.uniandes.edu.co/index.php/es/nuest
 ra-oferta/1163_curso--fundamentos-de-modelado-de-datos-para-arquitecto
 s
URL:https://educacioncontinuada.uniandes.edu.co/index.php/es/nuestra-o
 ferta/1163_curso--fundamentos-de-modelado-de-datos-para-arquitectos
CONTACT:
ORGANIZER:roly hudson / La DirecciÃ³n de EducaciÃ³n Continuada
ATTACH;FMTTYPE="image/jpeg":http://storage.ning.com/topology/rest/1.0/
 file/get/2829319192?profile=original
ATTENDEE;ROLE=REQ-PARTICIPANT;PARTSTAT=ACCEPTED;RSVP=TRUE;CN="David Hi
 nes":https://www.grasshopper3d.com/profile/DavidHines
ATTENDEE;ROLE=REQ-PARTICIPANT;PARTSTAT=ACCEPTED;RSVP=TRUE;CN="roly hud
 son":https://www.grasshopper3d.com/profile/rolyhudson
END:VEVENT
END:VCALENDAR
