BEGIN:VCALENDAR
PRODID:NingEventWidget-v1
VERSION:2.0
METHOD:PUBLISH
BEGIN:VTIMEZONE
TZID:America/Boise
X-LIC-LOCATION:America/Boise
BEGIN:DAYLIGHT
TZOFFSETFROM:-0700
TZOFFSETTO:-0600
TZNAME:MDT
DTSTART:19700308T020000
RRULE:FREQ=YEARLY;BYMONTH=3;BYDAY=2SU
END:DAYLIGHT
BEGIN:STANDARD
TZOFFSETFROM:-0600
TZOFFSETTO:-0700
TZNAME:MST
DTSTART:19701101T020000
RRULE:FREQ=YEARLY;BYMONTH=11;BYDAY=1SU
END:STANDARD
END:VTIMEZONE
BEGIN:VEVENT
UID:2985220:Event:597893
DTSTAMP:20260423T230850Z
SUMMARY:Curso de Grasshopper en Argentina
DESCRIPTION:Curso de Grasshopper - Modelado generativo\nComienza el Mi
 ercoles 13 de Junio\n8 clases de 3 hrs. Total 24 hrs.\n1 Clase por sem
 ana - Miercoles  de 19 a 22 hrs.\n\nSe dictan en Rhinoceros Argentina
  - Ciudad de la Paz 2719 3A - Belgrano.\n1 PC por alumno, Aire Acondic
 ionado, Cañon Proyector.\nAranceles\nEstudiantes 1 pago de $850 o 2 p
 agos de $480.-\nNo Estudiantes 1 pago de $1000+IVA o 2 pagos de $600+I
 VA.-\n\nPara reservar lugar comunicarse al 4547-3458 o a facundo@rhino
 ceros.com.ar\nVacantes limitadas.\n\nFor more information visit https:
 //www.grasshopper3d.com/events/curso-de-grasshopper-en-argentina
DTSTART;TZID=America/Boise:20120613T180000
DTEND;TZID=America/Boise:20120806T190000
CATEGORIES:training
LOCATION:Rhinoceros Argentina - CABA
WEBSITE:http://www.rhinoceros.com.ar
URL:http://www.rhinoceros.com.ar
CONTACT:4547-3458
ORGANIZER;CN="Facundo Miri":https://www.grasshopper3d.com/profile/Facu
 ndoMiri
ATTACH;FMTTYPE="image/jpeg":http://storage.ning.com/topology/rest/1.0/
 file/get/2828013715?profile=original
ATTENDEE;ROLE=REQ-PARTICIPANT;PARTSTAT=ACCEPTED;RSVP=TRUE;CN="Facundo 
 Miri":https://www.grasshopper3d.com/profile/FacundoMiri
END:VEVENT
END:VCALENDAR
