BEGIN:VCALENDAR
PRODID:NingEventWidget-v1
VERSION:2.0
METHOD:PUBLISH
BEGIN:VTIMEZONE
TZID:America/Boise
X-LIC-LOCATION:America/Boise
BEGIN:DAYLIGHT
TZOFFSETFROM:-0700
TZOFFSETTO:-0600
TZNAME:MDT
DTSTART:19700308T020000
RRULE:FREQ=YEARLY;BYMONTH=3;BYDAY=2SU
END:DAYLIGHT
BEGIN:STANDARD
TZOFFSETFROM:-0600
TZOFFSETTO:-0700
TZNAME:MST
DTSTART:19701101T020000
RRULE:FREQ=YEARLY;BYMONTH=11;BYDAY=1SU
END:STANDARD
END:VTIMEZONE
BEGIN:VEVENT
UID:2985220:Event:17000
DTSTAMP:20260423T180108Z
SUMMARY:Crisis Modes : Protocols + Future Ecologies | Cocktail Hour
DESCRIPTION:Join us for an evening of cocktails and conversation surro
 unding innovative design proposals for the Gowanus Canal. The event wi
 ll showcase work produced in the Crisis Modes intensive design worksho
 p. Wine and beer will be served chilled and gratis.\n\nFor more inform
 ation visit https://www.grasshopper3d.com/events/crisis-modes-protocol
 s-1
DTSTART;TZID=America/Boise:20090821T190000
DTEND;TZID=America/Boise:20090821T210000
CATEGORIES:cocktail, hour
LOCATION:Terminal Building
WEBSITE:http://modelab.nu/?page_id=1073
URL:http://modelab.nu/?page_id=1073
CONTACT:
ORGANIZER;CN="GIL AKOS":https://www.grasshopper3d.com/profile/GILAKOS
ATTACH;FMTTYPE="image/jpeg":http://storage.ning.com/topology/rest/1.0/
 file/get/2827651368?profile=original
ATTENDEE;ROLE=REQ-PARTICIPANT;PARTSTAT=ACCEPTED;RSVP=TRUE;CN="GIL AKOS
 ":https://www.grasshopper3d.com/profile/GILAKOS
END:VEVENT
END:VCALENDAR
