BEGIN:VCALENDAR
PRODID:NingEventWidget-v1
VERSION:2.0
METHOD:PUBLISH
BEGIN:VTIMEZONE
TZID:America/Boise
X-LIC-LOCATION:America/Boise
BEGIN:DAYLIGHT
TZOFFSETFROM:-0700
TZOFFSETTO:-0600
TZNAME:MDT
DTSTART:19700308T020000
RRULE:FREQ=YEARLY;BYMONTH=3;BYDAY=2SU
END:DAYLIGHT
BEGIN:STANDARD
TZOFFSETFROM:-0600
TZOFFSETTO:-0700
TZNAME:MST
DTSTART:19701101T020000
RRULE:FREQ=YEARLY;BYMONTH=11;BYDAY=1SU
END:STANDARD
END:VTIMEZONE
BEGIN:VEVENT
UID:2985220:Event:1798444
DTSTAMP:20260423T210340Z
SUMMARY:Corso Online Grasshopper
DESCRIPTION:Corso in offerta\nPer usufruire dell'offerta, è necessari
 o usare il codice \"McNeelEstate2017gh\" al momento dell'ordine.\n\nAt
 tenzione, il prezzo aumenterà all'avvicinarsi delle data di inizio de
 l corso.\n\nIl corso ha una durata di 21+3 ore, dove le 3 ore extra ra
 ppresentano la prima lezione, già disponibile per coloro che ne faran
 no richiesta.\nIl corso viene fatto in collaborazione con l’Accademi
 a Italiana Inrender\nModalità:\nIl corso sarà trasmesso in streamin
 g in diretta nei giorni indicati, ma sarà possibile accedervi anche 
 fuori da determinato orario. La lezione prevede la spiegazione della l
 ogica di Grasshopper  e esempi pratici di utilizzo. Gli studenti ve
 rranno invitati a partecipare ponendo domande e chiedendo chiarimenti 
 su aspetti ritenuti interessanti o non appieno compresi.\nGli esercizi
  svolgeranno una parte particolarmente rilevante all’interno del per
 corso di studio: anzichè acquisire solo concetti teorici, gli student
 i avranno un approccio più mirato e pratico alla modellazione generat
 iva e parametrica.\nCaratteristiche del corso:\n- Lezioni in diretta s
 treaming- Riassunto in pdf degli argomenti trattati- Esercizi e correz
 ione esercizi relativi alle tematiche trattate- Contatto diretto con i
 l docente per la durata del corso- Registrazioni e file delle lezioni 
 disponibili sul sito per un anno dal termine del corso.- Certificazion
 e rilascita da un ART (Authorized Rhinoceros Trainer)\n\nCorso Grassho
 pper online:  21 ore Calendario: ogni martedì e giovedì  dalle 1
 8.30 alle 21.30\nGrasshopper è un prodotto gratuito sviluppato dal
 la McNeel per la modellazione di superfici matematiche NURBS attravers
 o l’uso di relazioni tra algoritmi\nIl corso tratterà gli argomenti
  di base da cui sviluppare un approccio generativo tramite le funzioni
  dell’applicativo\nPer info sul programma e modalità, visita la nos
 tra pagina \n\nhttp://www.mandarinoblu.com/wp-content/uploads/2017/03
 /venezia.jpg 450w\" sizes=\"(max-width: 300px) 100vw, 300px\" />\nhttp
 ://www.mandarinoblu.com/wp-content/uploads/2011/09/ART.jpg 330w\" size
 s=\"(max-width: 300px) 100vw, 300px\" />\nhttp://www.mandarinoblu.com/
 wp-content/uploads/2017/03/serpentine.jpg 350w\" sizes=\"(max-width: 3
 00px) 100vw, 300px\" />\n\n\n\n \nContatti\nContatta il docente e ri
 volgi a lui tutte le tue domande.\n\nFor more information visit https:
 //www.grasshopper3d.com/events/corso-online-grasshopper
DTSTART;TZID=America/Boise:20170919T183000
DTEND;TZID=America/Boise:20170919T213000
CATEGORIES:corso, online
LOCATION:Online
WEBSITE:https://www.mandarinoblu.com/prodotto/corso-grasshopper-online
 /
URL:https://www.mandarinoblu.com/prodotto/corso-grasshopper-online/
CONTACT:+39 3342420203
ORGANIZER;CN="Antonino Marsala":https://www.grasshopper3d.com/profile/
 AntoninoMarsala
ATTACH;FMTTYPE="image/jpeg":http://storage.ning.com/topology/rest/1.0/
 file/get/2829842916?profile=original
ATTENDEE;ROLE=REQ-PARTICIPANT;PARTSTAT=ACCEPTED;RSVP=TRUE;CN="Antonino
  Marsala":https://www.grasshopper3d.com/profile/AntoninoMarsala
END:VEVENT
END:VCALENDAR
