BEGIN:VCALENDAR
PRODID:NingEventWidget-v1
VERSION:2.0
METHOD:PUBLISH
BEGIN:VTIMEZONE
TZID:America/Boise
X-LIC-LOCATION:America/Boise
BEGIN:DAYLIGHT
TZOFFSETFROM:-0700
TZOFFSETTO:-0600
TZNAME:MDT
DTSTART:19700308T020000
RRULE:FREQ=YEARLY;BYMONTH=3;BYDAY=2SU
END:DAYLIGHT
BEGIN:STANDARD
TZOFFSETFROM:-0600
TZOFFSETTO:-0700
TZNAME:MST
DTSTART:19701101T020000
RRULE:FREQ=YEARLY;BYMONTH=11;BYDAY=1SU
END:STANDARD
END:VTIMEZONE
BEGIN:VEVENT
UID:2985220:Event:765035
DTSTAMP:20260419T214728Z
SUMMARY:Corso on-line Grasshopper|parametricart
DESCRIPTION:GRASSHOPPER ONAIR\ninfo:http://mcarchitetture.blogspot.it/
 p/grasshopper-onair-razionalizzare-il.html\nRazionalizzare il compless
 o\nLâ€™architettura contemporanea Ã¨ sempre piÃ¹ caratterizzata da for
 me complesse. Non piÃ¹ frutto di estrusioni, addizioni e sottrazioni d
 i primitive solide, ma conseguenza di modellazione morbida, scultorea,
  organica, senza soluzione di continuitÃ . Gli architetti creano super
 fici complesse a doppia curvatura che poi devono essere costruite in c
 antiere. Gli strumenti produttivi e le tecnologie non consentono di re
 plicare fisicamente i modelli complessi disegnati nello spazio digital
 e, quindi il progettista Ã¨ costretto a RAZIONALIZZARE la forma comple
 ssa, spesso attraverso lâ€™operazione di pannellizzazione. Il tema del
  corso Ã¨ quindi incentrato sulla tassellazione in pannelli piani di u
 na pelle architettonica a doppia curvatura utilizzando Grasshopper. Lâ
 €™esperienza sarÃ  guidata e raccontata dal tutor in modo da poter app
 rendere lâ€™interfaccia della plug-in e le principali componenti dellâ
 €™applicativo\nA chi Ã¨ rivolto?\nIl corso richiede una conoscenza bas
 e del software Rhinoceros ma non Ã¨ richiesta alcuna conoscenza di Gra
 sshopper, di cui verrÃ nno illustrate le basi.\n\nFor more information
  visit https://www.grasshopper3d.com/events/corso-on-line-grasshopper-
 parametricart
DTSTART;TZID=America/Boise:20130119T100000
DTEND;TZID=America/Boise:20130119T120000
CATEGORIES:corso, on-line
LOCATION:Roma
WEBSITE:http://mcarchitetture.blogspot.it/p/grasshopper-onair-razional
 izzare-il.html
URL:http://mcarchitetture.blogspot.it/p/grasshopper-onair-razionalizza
 re-il.html
CONTACT:3403476330
ORGANIZER:Michele Calvano
ATTACH;FMTTYPE="image/jpeg":http://storage.ning.com/topology/rest/1.0/
 file/get/2828177380?profile=original
ATTENDEE;ROLE=REQ-PARTICIPANT;PARTSTAT=ACCEPTED;RSVP=TRUE;CN="Francesc
 a Guadagnoli":https://www.grasshopper3d.com/profile/FrancescaGuadagnol
 i
END:VEVENT
END:VCALENDAR
