BEGIN:VCALENDAR
PRODID:NingEventWidget-v1
VERSION:2.0
METHOD:PUBLISH
BEGIN:VTIMEZONE
TZID:America/Boise
X-LIC-LOCATION:America/Boise
BEGIN:DAYLIGHT
TZOFFSETFROM:-0700
TZOFFSETTO:-0600
TZNAME:MDT
DTSTART:19700308T020000
RRULE:FREQ=YEARLY;BYMONTH=3;BYDAY=2SU
END:DAYLIGHT
BEGIN:STANDARD
TZOFFSETFROM:-0600
TZOFFSETTO:-0700
TZNAME:MST
DTSTART:19701101T020000
RRULE:FREQ=YEARLY;BYMONTH=11;BYDAY=1SU
END:STANDARD
END:VTIMEZONE
BEGIN:VEVENT
UID:2985220:Event:64448
DTSTAMP:20260424T195036Z
SUMMARY:Computing Architectural Concepts
DESCRIPTION:With David Rutten and AA Students Wednesday, 12 May, 1.00\
 n\n‘Can the dichotomy between obsessive tooling and strong design ag
 enda be overcome? Can innovative software like Grasshopper be the idea
 l platform to marry computation, creativity and ecologic thinking? Wha
 t can be done to accelerate the process?’\nThis lecture by Grasshopp
 er developer David Rutten and some of his independent collaborators wi
 ll engage with these questions, introducing the history and ideas behi
 nd this novel parametric modelling software as well as some of its exp
 erimental future plug-ins operating at the borderline of geometry, mat
 hematics, physics and biology.\nThe lecture has been curated by Marco 
 Poletto (Inter10 Unit Master) and is part of the Advanced Conceptual D
 esign Workshop series held by ecoLogicStudio in London.\n\nFor more in
 formation, go to http://www.simplyrhino.co.uk/about/AA.html\n\nFor mor
 e information visit https://www.grasshopper3d.com/events/computing-arc
 hitectural
DTSTART;TZID=America/Boise:20100512T130000
DTEND;TZID=America/Boise:20100512T150000
CATEGORIES:lecture
LOCATION:Architectural Association School of Architecture
WEBSITE:http://www.aaschool.ac.uk/
URL:http://www.aaschool.ac.uk/
CONTACT:
ORGANIZER:AA Events - Simply Rhino - ecoLogicStudio
ATTACH;FMTTYPE="image/jpeg":http://storage.ning.com/topology/rest/1.0/
 file/get/2827701950?profile=original
ATTENDEE;ROLE=REQ-PARTICIPANT;PARTSTAT=ACCEPTED;RSVP=TRUE;CN=ecoLogics
 tudio:https://www.grasshopper3d.com/profile/ecoLogicStudio
END:VEVENT
END:VCALENDAR
