BEGIN:VCALENDAR
PRODID:NingEventWidget-v1
VERSION:2.0
METHOD:PUBLISH
BEGIN:VTIMEZONE
TZID:America/Boise
X-LIC-LOCATION:America/Boise
BEGIN:DAYLIGHT
TZOFFSETFROM:-0700
TZOFFSETTO:-0600
TZNAME:MDT
DTSTART:19700308T020000
RRULE:FREQ=YEARLY;BYMONTH=3;BYDAY=2SU
END:DAYLIGHT
BEGIN:STANDARD
TZOFFSETFROM:-0600
TZOFFSETTO:-0700
TZNAME:MST
DTSTART:19701101T020000
RRULE:FREQ=YEARLY;BYMONTH=11;BYDAY=1SU
END:STANDARD
END:VTIMEZONE
BEGIN:VEVENT
UID:2985220:Event:1027882
DTSTAMP:20260423T183424Z
SUMMARY:Computer Modelling with Rhino using Grasshopper and V-Ray Rend
 ering
DESCRIPTION:The course runs over five days, with a focus on modelling 
 in the morning and rendering in the afternoon. It is aimed at product 
 designers and architects who are interested in the generation and expl
 oration of new shapes.  In addition to learning this method of design
  the course will cover the application of professional quality renderi
 ng to constructed geometries.\n\nFor more information visit https://ww
 w.grasshopper3d.com/events/computer-modelling-with-rhino-using-grassho
 pper-and-v-ray
DTSTART;TZID=America/Boise:20140426T100000
DTEND;TZID=America/Boise:20140524T160000
CATEGORIES:training
LOCATION:Nottingham Trent University
WEBSITE:http://www.ntu.ac.uk/map_files/42554.pdf
URL:http://www.ntu.ac.uk/map_files/42554.pdf
CONTACT:+44 (0)115 848 2813
ORGANIZER:Jason Marks
ATTACH;FMTTYPE="image/jpeg":
ATTENDEE;ROLE=REQ-PARTICIPANT;PARTSTAT=ACCEPTED;RSVP=TRUE;CN="Steve Wh
 alley":https://www.grasshopper3d.com/profile/SteveWhalley
ATTENDEE;ROLE=REQ-PARTICIPANT;PARTSTAT=TENTATIVE;RSVP=TRUE;CN="Aydan L
 eng":https://www.grasshopper3d.com/profile/0plaxt0ap8vut
END:VEVENT
END:VCALENDAR
