BEGIN:VCALENDAR
PRODID:NingEventWidget-v1
VERSION:2.0
METHOD:PUBLISH
BEGIN:VTIMEZONE
TZID:America/Boise
X-LIC-LOCATION:America/Boise
BEGIN:DAYLIGHT
TZOFFSETFROM:-0700
TZOFFSETTO:-0600
TZNAME:MDT
DTSTART:19700308T020000
RRULE:FREQ=YEARLY;BYMONTH=3;BYDAY=2SU
END:DAYLIGHT
BEGIN:STANDARD
TZOFFSETFROM:-0600
TZOFFSETTO:-0700
TZNAME:MST
DTSTART:19701101T020000
RRULE:FREQ=YEARLY;BYMONTH=11;BYDAY=1SU
END:STANDARD
END:VTIMEZONE
BEGIN:VEVENT
UID:2985220:Event:1960436
DTSTAMP:20260424T064516Z
SUMMARY:Computational Processes in Architecture
DESCRIPTION:INTO FabLab is hosting a 5 day workshop on Computational 
 Process in Architecture using Grasshopper as a design thinking tool. T
 he workshop aims at Architects and aspiring masters students who are i
 nterested in specializing in the field of Computational design.\nThe w
 orkshop will help understand how Grasshopper facilitates during the de
 sign process allowing one to Generate, Automate and Manipulate data.\n
 \nTo Register:\nMail us at intofablab@gmail.com\n\nWorkshop Structure:
 \nDay 01: 11 February 2019\nIntroduction to Computational Processes in
  Architecture\nUnderstanding Grasshopper and its relation to Rhino3D\n
 Working with fields and Grids (Supplementary readings for Architectura
 l theory)\nSpatial Concepts using Data\nDay 02: 12 February 2019\nUnde
 rstanding Data in Grasshopper - LISTS\nManaging Data in Grasshopper (
 Supplementary reading)\nExperimentation on Massing and Architectural F
 orms\nDay 03: 13 February 2019\nUnderstanding Data in Grasshopper – 
 Trees\nSurface Logics (Supplementary reading)\nDesign Exercise and Pro
 totyping\nDay 04: 14 February 2019\nArchitectural Skins\nDay 05: 15 Fe
 bruary 2019\nMasterClass Project\nIntroduction to various types of Dig
 ital Fabrications\nPrototyping of works during the Workshops\n\nBasic 
 knowledge of Rhino 5 is required to be able to take this training.\nCE
 RTIFICATION: All participants will receive a Workshop certificate from
  Authorized Rhino Trainer.\n3D Printing: Prototyping of works during t
 he Workshops\n \nWorkshop Tutor:\nKavitha M, an Architect and Computa
 tional Designer, 3D Printing Specialist is also the co-founder of INTO
  Design Research, will head the Computational Process in Architecture 
 using Grasshopper workshop. Graduated from Stadelschule Architecture c
 lass with Masters in Advanced Architecture Design, has been researchin
 g on teaching methodologies on digital tools and their influence on De
 sign thinking.\n\nFor more information visit https://www.grasshopper3d
 .com/events/computational-process-in-architecture-1
DTSTART;TZID=America/Boise:20190211T000000
DTEND;TZID=America/Boise:20190215T235900
CATEGORIES:grasshopper, for, architecture
LOCATION:INTO FabLab
WEBSITE:https://www.google.com/maps/place/INTO+Fab+Lab/@13.001206,80.2
 474923,17z/data=!3m1!4b1!4m5!3m4!1s0x3a52678df0c4eb05:0x6fcc4b5284fc31
 47!8m2!3d13.001206!4d80.249681
URL:https://www.google.com/maps/place/INTO+Fab+Lab/@13.001206,80.24749
 23,17z/data=!3m1!4b1!4m5!3m4!1s0x3a52678df0c4eb05:0x6fcc4b5284fc3147!8
 m2!3d13.001206!4d80.249681
CONTACT:09940288712
ORGANIZER;CN=kavitha:https://www.grasshopper3d.com/profile/kavitha
ATTACH;FMTTYPE="image/jpeg":https://storage.ning.com/topology/rest/1.0
 /file/get/950827848?profile=original
ATTENDEE;ROLE=REQ-PARTICIPANT;PARTSTAT=ACCEPTED;RSVP=TRUE;CN=kavitha:h
 ttps://www.grasshopper3d.com/profile/kavitha
END:VEVENT
END:VCALENDAR
