BEGIN:VCALENDAR
PRODID:NingEventWidget-v1
VERSION:2.0
METHOD:PUBLISH
BEGIN:VTIMEZONE
TZID:America/Boise
X-LIC-LOCATION:America/Boise
BEGIN:DAYLIGHT
TZOFFSETFROM:-0700
TZOFFSETTO:-0600
TZNAME:MDT
DTSTART:19700308T020000
RRULE:FREQ=YEARLY;BYMONTH=3;BYDAY=2SU
END:DAYLIGHT
BEGIN:STANDARD
TZOFFSETFROM:-0600
TZOFFSETTO:-0700
TZNAME:MST
DTSTART:19701101T020000
RRULE:FREQ=YEARLY;BYMONTH=11;BYDAY=1SU
END:STANDARD
END:VTIMEZONE
BEGIN:VEVENT
UID:2985220:Event:871723
DTSTAMP:20260424T154245Z
SUMMARY:Computational Environmental Design
DESCRIPTION:\nComputational Environmental Design  International works
 hop on parametric and generative design environmental simulations bas
 ed for architecture and planning.  \n Main themes of the workshop: 
 The increasing availability and usability of tools for daylight and en
 ergy simulation into parametric and generative design software facilit
 ates the integration of environmental factors into the design process 
 from the very early stages, improving the efficiency of the design pro
 cesses and the performance of the buildings, giving to the designer ne
 w methodologies of work to create environmentally-aware and performati
 ve architectural and spatial design. The workshop will focus on the ne
 w methodologies of integration of daylight and energy simulations into
  architectural design processes by parametric and generative computati
 onal tools. \n\nDates: 21-22-23 August 2013\n Tutor: Francesco De Lu
 ca, Tallinn University of Technology\n Place: Tallinn University of T
 echnology, Ehitajate tee 5, Tallinn, Estonia  Software: Rhinoceros 5 
 + Grasshopper + environmental analysis plug-ins   Fees: professionals
  (6 places) 150 Euro – students (6 places) free (The students place
 s will be assigned on the principle of the higher level of study and e
 arlier registrations)    Deadline for registration: 31 July   Lang
 uage: English \n\nFull programme: http://www.balticenergy.info/web/
 page.aspx?refid=34  Information and registration:  Liina Henning, TUT
 : liina.henning@ttu.ee Francesco De Luca, TUT: francesco.deluca@ttu.
 ee  \n\nFor more information visit https://www.grasshopper3d.com/eve
 nts/computational-environmental-design
DTSTART;TZID=America/Boise:20130821T000000
DTEND;TZID=America/Boise:20130823T235900
CATEGORIES:workshop
LOCATION:Tallinn University of Technology
WEBSITE:http://www.balticenergy.info/web/page.aspx?refid=34
URL:http://www.balticenergy.info/web/page.aspx?refid=34
CONTACT:
ORGANIZER;CN="Francesco De Luca":https://www.grasshopper3d.com/profile
 /FrancescoDeLuca
ATTACH;FMTTYPE="image/jpeg":http://storage.ning.com/topology/rest/1.0/
 file/get/2828308501?profile=original
ATTENDEE;ROLE=REQ-PARTICIPANT;PARTSTAT=ACCEPTED;RSVP=TRUE;CN="SEAN PAT
 RICK CARTER":https://www.grasshopper3d.com/profile/SEANPATRICKCARTER
ATTENDEE;ROLE=REQ-PARTICIPANT;PARTSTAT=ACCEPTED;RSVP=TRUE;CN="Francesc
 o De Luca":https://www.grasshopper3d.com/profile/FrancescoDeLuca
END:VEVENT
END:VCALENDAR
