BEGIN:VCALENDAR
PRODID:NingEventWidget-v1
VERSION:2.0
METHOD:PUBLISH
BEGIN:VTIMEZONE
TZID:America/Boise
X-LIC-LOCATION:America/Boise
BEGIN:DAYLIGHT
TZOFFSETFROM:-0700
TZOFFSETTO:-0600
TZNAME:MDT
DTSTART:19700308T020000
RRULE:FREQ=YEARLY;BYMONTH=3;BYDAY=2SU
END:DAYLIGHT
BEGIN:STANDARD
TZOFFSETFROM:-0600
TZOFFSETTO:-0700
TZNAME:MST
DTSTART:19701101T020000
RRULE:FREQ=YEARLY;BYMONTH=11;BYDAY=1SU
END:STANDARD
END:VTIMEZONE
BEGIN:VEVENT
UID:2985220:Event:1523614
DTSTAMP:20260424T120524Z
SUMMARY:Computational Environmental and Energy Design
DESCRIPTION:Computational Environmental and Energy Design - Workshop o
 n the integration of parametric and generative design methodologies wi
 th environmental and energy simulations for architecture and planning.
 \nTarget group The workshop is addressed to students of architecture a
 nd civil engineering faculties at master level from Estonia (11 seats)
 , Latvia (3 seats), Lithuania (3 seats) and Sweden (3 seats). The sel
 ected students will have full scholarship that will include travel, bo
 ard and lodging in Tallinn for 10 days (arrival on Sunday 03.07.2016 
 departure on Wednesday 13.07.2016). The workshop is funded by the NORD
 PLUS programme of the Nordic Council of Ministers (NCM) - Higher Educa
 tion objective.\nDescription The use of digital and computational desi
 gn tools is increasingly important for the activity of design and rese
 arch for architects and engineers. It permits to integrate environment
 al and energy aspects from the very early stages of the design and pla
 nning process to achieve more performative, efficient and integrated b
 uildings and urban environments. The workshop attendants will broaden
  their design and technical knowledge with solar design, daylighting a
 nd energy efficiency topics and will learn how to integrate environmen
 tal analysis and building performance analysis tools with parametric a
 nd generative methodologies in architecture and planning.\n\n\nLocati
 on\nTallinn University of Technology – Departments of Structural Des
 ign and Environmental Engineering\nDates\nFrom 04 to 12 July 2016\nWor
 kshop blog\nFor detailed program, info and registration visit the blog
  at ceedtut.blogspot.com\nIn the weeks just before the workshop the b
 log will present also materials and tutorials to get a basic knowledge
  of the topics prior to the beginning of the workshop.\n\n\nFor more i
 nformation visit https://www.grasshopper3d.com/events/computational-en
 vironmental-and-energy-design
DTSTART;TZID=America/Boise:20160704T000000
DTEND;TZID=America/Boise:20160712T235900
CATEGORIES:workshop
LOCATION:Tallinn University of Technology
WEBSITE:http://ceedtut.blogspot.com
URL:http://ceedtut.blogspot.com
CONTACT:
ORGANIZER;CN="Francesco De Luca":https://www.grasshopper3d.com/profile
 /FrancescoDeLuca
ATTACH;FMTTYPE="image/jpeg":http://storage.ning.com/topology/rest/1.0/
 file/get/2829353581?profile=original
ATTENDEE;ROLE=REQ-PARTICIPANT;PARTSTAT=ACCEPTED;RSVP=TRUE;CN="Francesc
 o De Luca":https://www.grasshopper3d.com/profile/FrancescoDeLuca
END:VEVENT
END:VCALENDAR
