BEGIN:VCALENDAR
PRODID:NingEventWidget-v1
VERSION:2.0
METHOD:PUBLISH
BEGIN:VTIMEZONE
TZID:America/Boise
X-LIC-LOCATION:America/Boise
BEGIN:DAYLIGHT
TZOFFSETFROM:-0700
TZOFFSETTO:-0600
TZNAME:MDT
DTSTART:19700308T020000
RRULE:FREQ=YEARLY;BYMONTH=3;BYDAY=2SU
END:DAYLIGHT
BEGIN:STANDARD
TZOFFSETFROM:-0600
TZOFFSETTO:-0700
TZNAME:MST
DTSTART:19701101T020000
RRULE:FREQ=YEARLY;BYMONTH=11;BYDAY=1SU
END:STANDARD
END:VTIMEZONE
BEGIN:VEVENT
UID:2985220:Event:1507987
DTSTAMP:20260421T193729Z
SUMMARY:COMPLEX SURFACE 24 |Rh + Gh|
DESCRIPTION:Info + iscrizione: http://goo.gl/forms/vMgk8W00EW\nDurant
 e il corso di 24 ore si insegneranno nuove tecniche di modellazione pa
 rametrica e generativa attraverso l'utilizzo del software Rhinoceros e
  della plug-in Grasshopper. L'utilizzo dei due software permette di es
 primere al massimo le qualità e le potenzialità della modellazione N
 urbs e Mesh attraverso l'esplicitazione di algoritmi compositivi. Il c
 orso introdurrà alle strategie di disegno digitale finalizzate alla p
 rogettazione di forme complesse utilizzando un caso studio proprio del
  mondo dell’architettura. Si affronterà l'intero processo di modell
 azione, partendo dal disegno di una superficie complessa; su questa ve
 rranno applicati algoritmi generativi per la tassellazione e la riduzi
 one della complessità in elementi ottimizzati per la produzione. Una 
 delle finalità del corso è quindi l’ideazione di superfici comples
 se, approfondendo metodi di fabbricazione digitale.\nIl metodo del cor
 so è basato sulla risoluzione di un esercizio step-by-step accompagna
 to da approfondimenti teorici che porteranno il partecipante all'auton
 omia nell'utilizzo di Rhinoceros e Grasshopper. Durante il percorso ve
 rranno illustrati applicativi avanzati del software per la pannellizza
 zione delle superfici (Paneling-Tools). Con il processo illustrato nel
  corso si vuole rendere il lavoro del progettista più facile grazie a
 lla riduzione dei tempi che portano dal disegno dell’idea, alla cost
 ruzione delle forme.\nNella prima parte del corso verranno illustrati 
 metodi avanzati di generazione delle superdici per una modellazione co
 ntrollata delle FREE FORM. per arrivare a questa condizione sarà nece
 ssario approfondire i concetti di spazio parametrico monodimensionale 
 (per la trasformazione lungo le curve) e spazio parametrico bidimensio
 nale (per la trasformazione lungo le superfici).\nNella seconda parte 
 del corso si insegneranno i metodi di esplicitazione degli algoritmi, 
 applicati ad esercizi base utili alla comprensione di Grasshopper; poi
  la plug-in verrà specializzata affrontando editing, trasformazioni c
 omplesse e il problema della tassellazione delle superfici.Buona parte
  del tempo sarà dedicato alla costruzione di geometrie responsive e a
 lla gestione del flusso dati per l'ottimizzazione del lavoro.\n\nFor m
 ore information visit https://www.grasshopper3d.com/events/complex-sur
 face-24-rh-gh
DTSTART;TZID=America/Boise:20160510T170000
DTEND;TZID=America/Boise:20160528T140000
CATEGORIES:corso, di, rhinoceros, e, grasshopper
LOCATION:Associazione Culturale TRA LE VOLTE - http://www.tralevolte.o
 rg/2012-02-27-16-05-56
WEBSITE:http://www.drawing4design.com/#!blank/k9jz8
URL:http://www.drawing4design.com/#!blank/k9jz8
CONTACT:3403476330
ORGANIZER;CN="Michele Calvano":https://www.grasshopper3d.com/profile/M
 icheleCalvano
ATTACH;FMTTYPE="image/jpeg":http://storage.ning.com/topology/rest/1.0/
 file/get/2829326599?profile=original
ATTENDEE;ROLE=REQ-PARTICIPANT;PARTSTAT=ACCEPTED;RSVP=TRUE;CN="Michele 
 Calvano":https://www.grasshopper3d.com/profile/MicheleCalvano
END:VEVENT
END:VCALENDAR
