BEGIN:VCALENDAR
PRODID:NingEventWidget-v1
VERSION:2.0
METHOD:PUBLISH
BEGIN:VTIMEZONE
TZID:America/Boise
X-LIC-LOCATION:America/Boise
BEGIN:DAYLIGHT
TZOFFSETFROM:-0700
TZOFFSETTO:-0600
TZNAME:MDT
DTSTART:19700308T020000
RRULE:FREQ=YEARLY;BYMONTH=3;BYDAY=2SU
END:DAYLIGHT
BEGIN:STANDARD
TZOFFSETFROM:-0600
TZOFFSETTO:-0700
TZNAME:MST
DTSTART:19701101T020000
RRULE:FREQ=YEARLY;BYMONTH=11;BYDAY=1SU
END:STANDARD
END:VTIMEZONE
BEGIN:VEVENT
UID:2985220:Event:63922
DTSTAMP:20260421T070642Z
SUMMARY:Co-de-iT - Conditional Proliferations – GH Workshop - Roma
DESCRIPTION:\n\nConditional Proliferations\n\nGrasshopper workshop Lev
 el I – parametric & generative design _ Co-de-iT _ Roma _ 07-11 giug
 no 2010\n\n[.] Descrizione\n\nLa proliferazione è una modalità di oc
 cupazione dello spazio. In dipendenza dal proprio modo di interazione 
 ambientale, gli edifici possono essere distrubuiti e/o aggregati in mo
 dalità appropriate in modo da accumulare o disperdere gli effetti del
 la loro interazione e il proprio impatto sull'evoluzione delle relazio
 ni future. A livelli più bassi si può, ad esempio, considerare la di
 stribuzione di componenti o caratteristiche lungo un involucro.\nAppro
 cci basati su unità funzionali operano una proliferazione basata sull
 a ripetizione indifferenziata e insensibile all'ambiente, risultando i
 n una discretizzazione di matrice convenzionale e nella separazione tr
 a edifici, edifici e contesto o spazi interni ed esterni; un diverso t
 ipo di approccio, basato sulla condizione (termine usato nella sua dop
 pia accezione di indicatore dinamico della tendenza di sviluppo dell'e
 cosistema e in quella causale – if a then b), introduce una forma di
  proliferazione che sfida e scioglie la dicotomia artificiale: molte p
 iante crescono ovunque le condizioni portino ad esse beneficio, senza 
 riguardo per limiti codificati nello spazio in cui si sviluppano. Le i
 mplicazioni sulla negoziazione dello spazio e sulla definizione di sog
 lia sono notevoli; il sistema produce un campo armonicamente articolat
 o e differenziato di fenotipi a partire dal genotipo attraverso un pro
 cesso di \"estetica delle forze\" guidata attraverso lo strumento digi
 tale.\nA livello urbano questo può tradursi nella proliferazione di i
 nfrastrutture o di spazi che mettono in discussione la concezione stat
 ica di \"confine\" e \"unità\" in favore di modelli in grado di gener
 are una gamma più estesa di inflessioni tra livelli di complessità e
  indirizzarli per abilitare e rendere accessibili potenzialità d'uso 
 a loro volta articolate e complesse.\nIl tema sarà dipanato attravers
 o le giornate del workshop sviluppando aspetti teorici e tecnici dell'
 approccio parametrico generativo, con particolare attenzione a strateg
 ie di design urbano basate su caratteristiche endogene (vincoli intern
 i del sistema) ed esogene (fattori ambientali) allo scopo di stimolare
  l'esplorazione di soluzioni sistemiche innovative.\n\nIl numero dei p
 artecipanti è stabilito tra le 15 e le 20 persone per offrire un tuto
 raggio proficuo ed una effettiva esperienza di learning ad ogni iscrit
 to.\n\n[.] Temi\n\n. teoria\n\n. condizione, genotipo/fenotipi, transi
 zione, mappatura, eleganza, sensibilità, spazio\n\n. tecnica\n\n. dat
 i:gestione, manipolazione, visualizzazione\n. generazione di geometria
  da dati\n. logiche parametriche applicate al design\n. genotipo/fenot
 ipi\n. attrattori, mappers, drivers e tecniche di modulazione\n\n[.] D
 ettagli\n\nIstruttori: Alessio Erioli + Andrea Graziano + Davide Del G
 iudice – Co-de-iT (GH & design tutors).\n\nSi richiede esperienza di
  base nella modellazione in Rhino (equivalente a Rhino training Level 
 1, il Level 2 è gradito – la documentazione per il training è disp
 onibile gratuitamente all'indirizzo: http://download.rhino3d.com/downl
 oad.asp?id=Rhino4Training&language=it).\n\nLuogo :\npresso NETFORM –
  via Alessandro Cialdi 7, Roma\nOrario :\n9.00-18.00.\ninfo:\ninfo@a-m
 -u-r-i.it\nPhone:\n+39 338 4201162\niscrizioni:\nhttp://www.cesarch.it
 /\n\nFor more information visit https://www.grasshopper3d.com/events/c
 odeit-conditional
DTSTART;TZID=America/Boise:20100607T090000
DTEND;TZID=America/Boise:20100611T180000
CATEGORIES:grasshopper, workshop
LOCATION:NETFORM
WEBSITE:http://www.cesarch.it/corsi.aspx?id=17
URL:http://www.cesarch.it/corsi.aspx?id=17
CONTACT:+39 338 4201162
ORGANIZER:http://www.cesarch.it/
ATTACH;FMTTYPE="image/jpeg":http://storage.ning.com/topology/rest/1.0/
 file/get/2827701486?profile=original
ATTENDEE;ROLE=REQ-PARTICIPANT;PARTSTAT=ACCEPTED;RSVP=TRUE;CN="Alessio 
 Erioli":https://www.grasshopper3d.com/profile/Ale2x72
ATTENDEE;ROLE=REQ-PARTICIPANT;PARTSTAT=ACCEPTED;RSVP=TRUE;CN="Andrea G
 raziano":https://www.grasshopper3d.com/profile/AndreaGraziano
ATTENDEE;ROLE=REQ-PARTICIPANT;PARTSTAT=TENTATIVE;RSVP=TRUE;CN="Claudio
  Romagnolo":https://www.grasshopper3d.com/profile/ClaudioRomagnolo
ATTENDEE;ROLE=REQ-PARTICIPANT;PARTSTAT=TENTATIVE;RSVP=TRUE;CN=Michele:
 https://www.grasshopper3d.com/profile/Michele401
ATTENDEE;ROLE=REQ-PARTICIPANT;PARTSTAT=TENTATIVE;RSVP=TRUE;CN="Matias 
 del Campo":https://www.grasshopper3d.com/profile/MatiasdelCampo
END:VEVENT
END:VCALENDAR
