BEGIN:VCALENDAR
PRODID:NingEventWidget-v1
VERSION:2.0
METHOD:PUBLISH
BEGIN:VTIMEZONE
TZID:America/Boise
X-LIC-LOCATION:America/Boise
BEGIN:DAYLIGHT
TZOFFSETFROM:-0700
TZOFFSETTO:-0600
TZNAME:MDT
DTSTART:19700308T020000
RRULE:FREQ=YEARLY;BYMONTH=3;BYDAY=2SU
END:DAYLIGHT
BEGIN:STANDARD
TZOFFSETFROM:-0600
TZOFFSETTO:-0700
TZNAME:MST
DTSTART:19701101T020000
RRULE:FREQ=YEARLY;BYMONTH=11;BYDAY=1SU
END:STANDARD
END:VTIMEZONE
BEGIN:VEVENT
UID:2985220:Event:1469392
DTSTAMP:20260424T195034Z
SUMMARY:Code-Structed Skin Workshop + Exhibition
DESCRIPTION:SBODIO32 presents Code-Structed Skin | The computational f
 ashion design workshop held for Milan Design Week 2016.Open for studen
 ts and professionals from all design disciplines with interest in adva
 nced design techniques.Info and Applications on www.sbodio32.com--Thi
 s design and research workshop explores the new computational fashion 
 design methods and techniques as tools for creative expression and des
 ign intelligence. The workshop immerses participants into computationa
 l design thinking and the exploration of the new design possibilities 
 associated with it and it seeks to create an inventive and collaborati
 ve environment in which investigate the overlap between architecture a
 nd fashion.Dates:18th - 25th March 2016TutorsStefano Paiocchi | Zaha 
 Hadid ArchitectsArian Hakimi Nejad | Zaha Hadid ArchitectsProfessorAle
 ssandro Turci | Prof. Fashion Publishing, Brera Academy and Director o
 f Risekult AssociationCoordinatorAmr Ezzeldinn | Ezgaat ArchitectsFor 
 more info and applications, please send an email mentioning your inter
 est to milandesignweek@sbodio32.com Applications are open for all cre
 ative students and professionals. Basic knowledge of software (Rhino3d
 ) is required.\n\nFor more information visit https://www.grasshopper3d
 .com/events/code-structed-skin-workshop-exhibition
DTSTART;TZID=America/Boise:20160318T000000
DTEND;TZID=America/Boise:20160325T235900
CATEGORIES:workshop
LOCATION:Milan, Italy
WEBSITE:http://www.sbodio32.com
URL:http://www.sbodio32.com
CONTACT:+393246931070
ORGANIZER:Ezgaat Architects
ATTACH;FMTTYPE="image/jpeg":http://storage.ning.com/topology/rest/1.0/
 file/get/2829254733?profile=original
ATTENDEE;ROLE=REQ-PARTICIPANT;PARTSTAT=ACCEPTED;RSVP=TRUE;CN=Amrvitalo
 ni:https://www.grasshopper3d.com/profile/Amrvitaloni
END:VEVENT
END:VCALENDAR
