BEGIN:VCALENDAR
PRODID:NingEventWidget-v1
VERSION:2.0
METHOD:PUBLISH
BEGIN:VTIMEZONE
TZID:America/Boise
X-LIC-LOCATION:America/Boise
BEGIN:DAYLIGHT
TZOFFSETFROM:-0700
TZOFFSETTO:-0600
TZNAME:MDT
DTSTART:19700308T020000
RRULE:FREQ=YEARLY;BYMONTH=3;BYDAY=2SU
END:DAYLIGHT
BEGIN:STANDARD
TZOFFSETFROM:-0600
TZOFFSETTO:-0700
TZNAME:MST
DTSTART:19701101T020000
RRULE:FREQ=YEARLY;BYMONTH=11;BYDAY=1SU
END:STANDARD
END:VTIMEZONE
BEGIN:VEVENT
UID:2985220:Event:63232
DTSTAMP:20260424T165546Z
SUMMARY:CLJ: Parametric Design Workshop
DESCRIPTION:DTAL is very pleased to announce a new workshop taking pla
 ce at the Faculty of Architecture and Urbanism in Cluj during 17-20 Ma
 y, which is very nicely timed with Neil Leach’s conference there (20
  May). It all happens under the umberlla of the +/- Center of Architec
 ture and its associated festival. Thanks to AStA Cluj for the invitati
 on.\n\nTutors are Ionut Anton and Dimitrie Stefanescu.\n\nFor more inf
 ormation visit https://www.grasshopper3d.com/events/clj-parametric-des
 ign-workshop
DTSTART;TZID=America/Boise:20100517T000000
DTEND;TZID=America/Boise:20100520T235900
CATEGORIES:workshop
LOCATION:Faculty of Architecture and Urbanism in Cluj
WEBSITE:http://dtarchlab.wordpress.com/2010/05/03/clj-parametric-desig
 n-workshop/
URL:http://dtarchlab.wordpress.com/2010/05/03/clj-parametric-design-wo
 rkshop/
CONTACT:
ORGANIZER:Dimitrie Stefanescu, Ionut Anton, AStA Cluj
ATTACH;FMTTYPE="image/jpeg":http://storage.ning.com/topology/rest/1.0/
 file/get/2827701132?profile=original
ATTENDEE;ROLE=REQ-PARTICIPANT;PARTSTAT=ACCEPTED;RSVP=TRUE;CN="Dimitrie
  Stefanescu @idid":https://www.grasshopper3d.com/profile/DimitrieStefa
 nescu
END:VEVENT
END:VCALENDAR
