BEGIN:VCALENDAR
PRODID:NingEventWidget-v1
VERSION:2.0
METHOD:PUBLISH
BEGIN:VTIMEZONE
TZID:America/Boise
X-LIC-LOCATION:America/Boise
BEGIN:DAYLIGHT
TZOFFSETFROM:-0700
TZOFFSETTO:-0600
TZNAME:MDT
DTSTART:19700308T020000
RRULE:FREQ=YEARLY;BYMONTH=3;BYDAY=2SU
END:DAYLIGHT
BEGIN:STANDARD
TZOFFSETFROM:-0600
TZOFFSETTO:-0700
TZNAME:MST
DTSTART:19701101T020000
RRULE:FREQ=YEARLY;BYMONTH=11;BYDAY=1SU
END:STANDARD
END:VTIMEZONE
BEGIN:VEVENT
UID:2985220:Event:483094
DTSTAMP:20260423T180627Z
SUMMARY:Ciclo de Workshops “ADN Methodology” / México 2011
DESCRIPTION:Es un programa académico internacional apoyado por divers
 as Universidades Mexicanas y Europeas sobre la unión del diseño para
 métrico (diseño generativo), la sustentabilidad y la fabricación di
 gital, usando las nuevas tecnologías de la información en la arquite
 ctura para la gestión del conocimiento de sistemas que desarrollen es
 tructuras sustentables, desde los procesos de diseño generativos o al
 gorítmicos. Donde se contempla la P.O.O. (programación orientada a o
 bjetos) como nuevo lenguaje de expresión para el arquitecto-diseñado
 r en el siglo XXI.Los talleres están pensados para sigan un hilo cond
 uctual en el que al mismo tiempo que se enseña se investiga y experim
 enta. Por primera vez se contará con diversos miembros de SEED como d
 ocentes de forma presencial y por video conferencia, logrando de esta 
 forma acercar a los especialistas que se encuentran en Europa a los as
 istentes de los talleres sin encarecer los costos.+info:http://www.stu
 dioseed.net/ adn-methodology/\n \nLos talleres están dirigidos a pe
 rsonas que tengan o quieran conseguir un perfil alto de innovación, c
 reatividad, flexibilidad: profesionales con actividades de dirección,
  gerencia, proyectistas, investigadores, así como a estudiantes a par
 tir de 5to semestre en adelante. Cada taller abarca perfiles diversos 
 de profesionales, mientras unos están más orientados a directivos y 
 gerencias, otros más a proyectistas.\n\nLOS TALLERES:FAB DIG I / ITES
 M – CEM / Estado de México / 20 hrs / 8 – 11 al de diciembre 2011
  (En este taller no se aplican descuentos ni becas)PARAMETRIC GREEN HO
 USING / Colegio de Arquitectos del estado de Jalisco (Por confirmar Se
 de) / Guadalajara / 20h + 5h proyecto / 30 enero 2012 al 4 de diciembr
 e 2012FAB DIG II / ITESM – CEM / Estado de México / 30h + 5h proyec
 to / 8 a 12 febrero 2012TERCERA REVOLUCIÓN INDUSTRIAL: TIC`s + SOSTEN
 IBILIDAD. Procesos y paradigmas emergentes / Querétaro / 20 hrs / 15 
 al 18 de febrero 2012INTRODUCCIÓN AL DISEÑO GENERATIVO / UAM-azc / D
 F / 8hrs / 13, 14 de enero (Costo representativo $650, máximo 40 pers
 onas, mínimo 15 personas)INTRODUCCIÓN A: SCRIPTING CON GRASSHOPPER (
  Python) Y PLUGINS / Estudio SEED México / Estado de México / 30 hrs
  / 23, 24, 25 febrero y 1,2, 3 de marzo 2012\n\nFor more information v
 isit https://www.grasshopper3d.com/events/ciclo-de-workshops-adn-metho
 dology-m-xico-2011
DTSTART;TZID=America/Boise:20111208T000000
DTEND;TZID=America/Boise:20120126T235900
CATEGORIES:workshop
LOCATION:Estudio SEED México
WEBSITE:http://www.studioseed.net/blog/noticias/workshops-studioseed/c
 iclo-de-workshops-adn-methodology-mexico-2011/
URL:http://www.studioseed.net/blog/noticias/workshops-studioseed/ciclo
 -de-workshops-adn-methodology-mexico-2011/
CONTACT:
ORGANIZER;CN="SEED studio":https://www.grasshopper3d.com/profile/SEEDK
 RFR
ATTACH;FMTTYPE="image/jpeg":http://storage.ning.com/topology/rest/1.0/
 file/get/2827880668?profile=original
ATTENDEE;ROLE=REQ-PARTICIPANT;PARTSTAT=ACCEPTED;RSVP=TRUE;CN="SEED stu
 dio":https://www.grasshopper3d.com/profile/SEEDKRFR
END:VEVENT
END:VCALENDAR
