BEGIN:VCALENDAR
PRODID:NingEventWidget-v1
VERSION:2.0
METHOD:PUBLISH
BEGIN:VTIMEZONE
TZID:America/Boise
X-LIC-LOCATION:America/Boise
BEGIN:DAYLIGHT
TZOFFSETFROM:-0700
TZOFFSETTO:-0600
TZNAME:MDT
DTSTART:19700308T020000
RRULE:FREQ=YEARLY;BYMONTH=3;BYDAY=2SU
END:DAYLIGHT
BEGIN:STANDARD
TZOFFSETFROM:-0600
TZOFFSETTO:-0700
TZNAME:MST
DTSTART:19701101T020000
RRULE:FREQ=YEARLY;BYMONTH=11;BYDAY=1SU
END:STANDARD
END:VTIMEZONE
BEGIN:VEVENT
UID:2985220:Event:868295
DTSTAMP:20260424T120537Z
SUMMARY:CICE Grasshopper Madrid 30h Intensive Workshop
DESCRIPTION:CICE, the leading new-tech academy in Madrid (http://www.c
 ice.es/),is hosting this summer this 30 hour intensive course. We will
  explore how to develop parametric architectural and industrial design
 s from scratch, on a multidisciplinary simultaneous basis\nFurther inf
 o + contact:\nhttp://www.cice.es/landing/verano.php?utm_source=web_cic
 e&utm_medium=boton&utm_campaign=landing_cice_web\nInstructors: Sergio 
 del Castillo Tello\nDaniel del Rey Hernández\nAlfonso de Sala Ribé\n
 ART Madrid\n\nFor more information visit https://www.grasshopper3d.com
 /events/cice-grasshopper-madrid-30h-intensive-workshop
DTSTART;TZID=America/Boise:20130715T000000
DTEND;TZID=America/Boise:20130726T150000
CATEGORIES:course, grasshopper, madrid, cice, nan, summer, intensive, 
 workshop
LOCATION:Madrid, Spain
WEBSITE:http://www.cice.es
URL:http://www.cice.es
CONTACT:+34914355843
ORGANIZER:CICE / NaN / www.NaNetwork.Net
ATTACH;FMTTYPE="image/jpeg":http://storage.ning.com/topology/rest/1.0/
 file/get/2828306197?profile=original
ATTENDEE;ROLE=REQ-PARTICIPANT;PARTSTAT=ACCEPTED;RSVP=TRUE;CN="Andrew R
 eynolds":https://www.grasshopper3d.com/profile/AndrewReynolds
ATTENDEE;ROLE=REQ-PARTICIPANT;PARTSTAT=ACCEPTED;RSVP=TRUE;CN="paul hac
 kett":https://www.grasshopper3d.com/profile/paulhackett
ATTENDEE;ROLE=REQ-PARTICIPANT;PARTSTAT=ACCEPTED;RSVP=TRUE;CN="Alfonso 
 de Sala":https://www.grasshopper3d.com/profile/AlfonsodeSala
ATTENDEE;ROLE=REQ-PARTICIPANT;PARTSTAT=ACCEPTED;RSVP=TRUE;CN="dani nan
 ":https://www.grasshopper3d.com/profile/danirey
ATTENDEE;ROLE=REQ-PARTICIPANT;PARTSTAT=ACCEPTED;RSVP=TRUE;CN=Fourteam:
 https://www.grasshopper3d.com/profile/DoubleFourteen
ATTENDEE;ROLE=REQ-PARTICIPANT;PARTSTAT=ACCEPTED;RSVP=TRUE;CN="Doctor N
 o":https://www.grasshopper3d.com/profile/DrNo
END:VEVENT
END:VCALENDAR
