BEGIN:VCALENDAR
PRODID:NingEventWidget-v1
VERSION:2.0
METHOD:PUBLISH
BEGIN:VTIMEZONE
TZID:America/Boise
X-LIC-LOCATION:America/Boise
BEGIN:DAYLIGHT
TZOFFSETFROM:-0700
TZOFFSETTO:-0600
TZNAME:MDT
DTSTART:19700308T020000
RRULE:FREQ=YEARLY;BYMONTH=3;BYDAY=2SU
END:DAYLIGHT
BEGIN:STANDARD
TZOFFSETFROM:-0600
TZOFFSETTO:-0700
TZNAME:MST
DTSTART:19701101T020000
RRULE:FREQ=YEARLY;BYMONTH=11;BYDAY=1SU
END:STANDARD
END:VTIMEZONE
BEGIN:VEVENT
UID:2985220:Event:2028
DTSTAMP:20260424T044229Z
SUMMARY:Charla ViewMaster  en la P.Universidad Católica de Chile
DESCRIPTION:View-Master '09 en PUC Lo Contador.\nMartes 20 de Mayo a l
 as 13:30\n\nJunto a Guillermo Parada mostraremos Rhinoceros y su model
 amiento generativo y frabricación digital.\n\nFor more information vi
 sit https://www.grasshopper3d.com/events/charla-viewmaster-en-la
DTSTART;TZID=America/Boise:20090520T133000
DTEND;TZID=America/Boise:20090520T150000
CATEGORIES:conference
LOCATION:Campus Lo Contador PUC
WEBSITE:
URL:
CONTACT:+5622329840
ORGANIZER;CN="Rene Medel":https://www.grasshopper3d.com/profile/ReneMe
 del
ATTACH;FMTTYPE="image/jpeg":http://storage.ning.com/topology/rest/1.0/
 file/get/2827636901?profile=original
ATTENDEE;ROLE=REQ-PARTICIPANT;PARTSTAT=ACCEPTED;RSVP=TRUE;CN="Rene Med
 el":https://www.grasshopper3d.com/profile/ReneMedel
END:VEVENT
END:VCALENDAR
