BEGIN:VCALENDAR
PRODID:NingEventWidget-v1
VERSION:2.0
METHOD:PUBLISH
BEGIN:VTIMEZONE
TZID:America/Boise
X-LIC-LOCATION:America/Boise
BEGIN:DAYLIGHT
TZOFFSETFROM:-0700
TZOFFSETTO:-0600
TZNAME:MDT
DTSTART:19700308T020000
RRULE:FREQ=YEARLY;BYMONTH=3;BYDAY=2SU
END:DAYLIGHT
BEGIN:STANDARD
TZOFFSETFROM:-0600
TZOFFSETTO:-0700
TZNAME:MST
DTSTART:19701101T020000
RRULE:FREQ=YEARLY;BYMONTH=11;BYDAY=1SU
END:STANDARD
END:VTIMEZONE
BEGIN:VEVENT
UID:2985220:Event:498067
DTSTAMP:20260419T082242Z
SUMMARY:Cavallette Generative 2012
DESCRIPTION:Cavallette generative Ã¨ il nuovo corso di Grasshopper Lev
 el I, proposto dalMandarino BLUÂ visual communication LAB. L'evento Ã¨
  realizzato grazie al supporto diÂ Multiverso, impresa collettiva basa
 ta sul coworking. Il corso prevede la trattazione delle tematiche di b
 ase della modellazione generativa, con l'inserimento di lezioni basate
  sulla filosofia progettuale della modellazione generativa e basi di a
 nalisi matematica.\nÂ \nIl corso ha durata di 30 ore con appuntamenti 
 bisettimanali (lunedÃ¬ e mercoledÃ¬) a partire da lunedÃ¬ 03 ottobre. 
 Per maggiori informazioni contattate il docente delcorsoÂ e scaricate 
 ilÂ programma\nÂ \n____________\nÂ \nCavallette Generative is the new 
 Grasshopper Level I course offered byÂ Mandarino BluÂ visual communica
 tion LAB. The event is organized by the support ofMultiverso, a co-wor
 king company.Â TheÂ course includesÂ the discussion ofÂ the basicÂ the
 mesÂ ofÂ generativeÂ modeling, such asÂ design philosophyÂ andÂ mathem
 atical analysis.\nÂ \nTheÂ course lastsÂ 30 hours withÂ twice-weeklyÂ 
 meetingsÂ (MondayÂ and Wednesday)Â fromÂ Monday, October 3.Â For moreÂ
  information contactÂ theinstructorÂ of the courseÂ and downloadÂ theÂ
  program\n\nFor more information visit https://www.grasshopper3d.com/e
 vents/cavallette-generative-2012
DTSTART;TZID=America/Boise:20120114T140000
DTEND;TZID=America/Boise:20120114T180000
CATEGORIES:corso, di, grasshopper, level, i
LOCATION:Presso Scuola Santa Reparata
WEBSITE:https://www.facebook.com/events/257590597632962/
URL:https://www.facebook.com/events/257590597632962/
CONTACT:3342420203
ORGANIZER;CN="Antonino Marsala":https://www.grasshopper3d.com/profile/
 AntoninoMarsala
ATTACH;FMTTYPE="image/jpeg":http://storage.ning.com/topology/rest/1.0/
 file/get/2827897498?profile=original
ATTENDEE;ROLE=REQ-PARTICIPANT;PARTSTAT=ACCEPTED;RSVP=TRUE;CN="Andrew R
 eynolds":https://www.grasshopper3d.com/profile/AndrewReynolds
ATTENDEE;ROLE=REQ-PARTICIPANT;PARTSTAT=ACCEPTED;RSVP=TRUE;CN="Antonino
  Marsala":https://www.grasshopper3d.com/profile/AntoninoMarsala
END:VEVENT
END:VCALENDAR
