BEGIN:VCALENDAR
PRODID:NingEventWidget-v1
VERSION:2.0
METHOD:PUBLISH
BEGIN:VTIMEZONE
TZID:America/Boise
X-LIC-LOCATION:America/Boise
BEGIN:DAYLIGHT
TZOFFSETFROM:-0700
TZOFFSETTO:-0600
TZNAME:MDT
DTSTART:19700308T020000
RRULE:FREQ=YEARLY;BYMONTH=3;BYDAY=2SU
END:DAYLIGHT
BEGIN:STANDARD
TZOFFSETFROM:-0600
TZOFFSETTO:-0700
TZNAME:MST
DTSTART:19701101T020000
RRULE:FREQ=YEARLY;BYMONTH=11;BYDAY=1SU
END:STANDARD
END:VTIMEZONE
BEGIN:VEVENT
UID:2985220:Event:16819
DTSTAMP:20260424T103509Z
SUMMARY:CANactions II 2009
DESCRIPTION:CANactions – a field for communication and changing of i
 deas for young architects and students by presentation of architectura
 l projects.\n\nMain aim of the project - is to create new architectura
 l community in Ukraine, which is orientated to contemporary architectu
 re.\n\nThe results of CANactions will be published in ACC magazine (li
 nk), on the web-sites of “Architectural club” (link), AB \"ZOTOV&C
 O\" (www.zotov.com.ua),\n\nTheme\n\nTheme of CANactions 2009 is emerge
 nt design techniques.\nThis theme could include following architectura
 l branches as Digital design, sustainable architecture and other secto
 rs, which by the participants’ opinions, could be EMERGENT.???\nAny 
 architectural projects made earlier of specially for the CANactions’
 09 are allowed for submission.\n\nPresentation\n\nAll the projects wil
 l be submitted in two phases:\nPhase 1 – selection of 10-15 particip
 ants of CANactions.\nProject has to be sent by e-mail to: (__) in PDF 
 (not less then 300 dpi, not more then 10 Mb).\n\nPhase 2 –the CANact
 ions participants prepare 15-20 min presentation of their projects (sc
 reen projector, microphone) and materials for the exhibition in House 
 of Architect, Kyiv. The project has to be presented by author. -> exhi
 bition is the first architecture biennale\nPresentation requirements: 
 file should be composed in PDF format on A0 sheets, placed horizontal 
 (not more then 1 sheets). This file should contain sufficient amount o
 f the presentation graphic material, including text explanation up to 
 300 words.\nThe raster images should have printing definition not less
  then 300 dpi. It’s recommended to avoid solid black fillings, becau
 se the projects will be printed on ink-jet printer.\nThe presentation 
 requirements could be changed after phase 1 results.\nThe presentation
  materials should be made in Ukrainian (or Russian) and English. Verba
 l part can be presented in any language.\n\nTarek Naga, Naga Studio, L
 os Angeles / USA (I can contact him - he will do it for free)\n\nAward
 s\n\nDIA (Dessau Institute of Architecture), Germany gives a prize: ce
 rtificate for the education for 1 (2) semesters of Master-program in D
 IA for students and young architects (up to 30 years) from Ukraine. Th
 e decision about the prize winners will be made by selection board.\n\
 nGuests presentations\n\n- Daniel da Rocha DIA /Germany/ (flights, acc
 ommodation?). Theme: (scripting???)\n- Aleksandr Kalachev DIA /Riussia
 n Federation/, Tudor Cosmatu DIA /Romania/, Irina Bogdan DIA /Romania/
  - \"Parametrically Defined Urban Patterns\".\n- Grygorii Zotov DIA /U
 kraine/ - “The Multicultural Columbarium”.\n- Armen Menendian /USA
 / - \"Blending Parametric Methods With Traditional Design:\n\"The Dani
 sh Pavilion at Shanghai EXPO 2010\".\n\nExhibitions\n1. Projects of 10
  (15) CANactions participants\n2. other projects: Zotov+Co\nBollinger+
 Grohmann - structural eng.\nthe very many\nC-Space Pavillon / alvin hu
 ang\nala _ amanda levete studio\nanOtherArchitect\nstudent work, Charl
 es Walker, AA Unit Pavillon\n\nEvent schedule\nPhase 1: 01.07.2009 –
  start of the CANactions 2009 and beginning of projects submission.\n1
 6.08.2009 - dead-line of the project submission of phase 1.\nPhase 2: 
 17.08.2009 – announcement of the CANactions 2009 participants.\n30.0
 8.2009 – dead-line of submission of the CANactions 2009 exhibition m
 aterials.\n14-26.09.2009 – exhibition of the CANactions 2009 project
 s in House of Architect, Kyiv.\n25-26.09.2009 – CANactions 2009.\n26
 .09.2009 - finnissage / announcement of competition winners for DIA st
 udy\n\nContacts: canactions2009@gmail.com\n\nFor more information visi
 t https://www.grasshopper3d.com/events/canactions-ii-2009
DTSTART;TZID=America/Boise:20090925T000000
DTEND;TZID=America/Boise:20090926T235900
CATEGORIES:presentations, competition, masterclass
LOCATION:House of Architects
WEBSITE:http://www.zotov.com.ua/projects/canactions_ii
URL:http://www.zotov.com.ua/projects/canactions_ii
CONTACT:+38 (097) 830 69 26
ORGANIZER:Zotov & Co
ATTACH;FMTTYPE="image/jpeg":http://storage.ning.com/topology/rest/1.0/
 file/get/2827651184?profile=original
ATTENDEE;ROLE=REQ-PARTICIPANT;PARTSTAT=ACCEPTED;RSVP=TRUE;CN="Tudor Co
 smatu":https://www.grasshopper3d.com/profile/TudorCosmatu
ATTENDEE;ROLE=REQ-PARTICIPANT;PARTSTAT=ACCEPTED;RSVP=TRUE;CN="Grisha Z
 otov":https://www.grasshopper3d.com/profile/GrishaZotov
END:VEVENT
END:VCALENDAR
