BEGIN:VCALENDAR
PRODID:NingEventWidget-v1
VERSION:2.0
METHOD:PUBLISH
BEGIN:VTIMEZONE
TZID:America/Boise
X-LIC-LOCATION:America/Boise
BEGIN:DAYLIGHT
TZOFFSETFROM:-0700
TZOFFSETTO:-0600
TZNAME:MDT
DTSTART:19700308T020000
RRULE:FREQ=YEARLY;BYMONTH=3;BYDAY=2SU
END:DAYLIGHT
BEGIN:STANDARD
TZOFFSETFROM:-0600
TZOFFSETTO:-0700
TZNAME:MST
DTSTART:19701101T020000
RRULE:FREQ=YEARLY;BYMONTH=11;BYDAY=1SU
END:STANDARD
END:VTIMEZONE
BEGIN:VEVENT
UID:2985220:Event:1643855
DTSTAMP:20260424T064519Z
SUMMARY:C# for Grasshopper
DESCRIPTION:C# is a programming language in which Grasshopper for Rhin
 o was written. It is commonly used to create plug-ins.During the three
  day course the following subjects will be talked through:- basic codi
 ng in C# programming language.- algorithmic thinking in design and 3D 
 modelling;- RhinoCommon library. Extending GH scripting capabilities w
 ith full Rhinoceros 5.0 functionality;- shortening the script executio
 n time by optimizing the algorithms. Methods of saving resources throu
 gh finding inefficient operations;-geometric algorithms. Delaunay tria
 ngulation, Voronoi diagram, shortest path problem etc. described and i
 mplemented in C#;- scripting in Grasshopper’s C# script component;-c
 reating own components in Microsoft Visual Studio.After the course you
  will be able to create your own components, solve complicated problem
 s, operate on data structures and optimize your code. Going in depth i
 nto geometric algorithms will give you a better understanding of tools
  you’re using and broaden your mind in terms of finding clever solut
 ions.Detailed program coming soon.Registration at info@architekturapa
 rametryczna.plTUTION FEE: 800 PLN/220 EUR (Regular)\n\nFor more inform
 ation visit https://www.grasshopper3d.com/events/c-for-grasshopper
DTSTART;TZID=America/Boise:20161202T090000
DTEND;TZID=America/Boise:20161204T190000
CATEGORIES:training
LOCATION:Warsaw
WEBSITE:https://www.facebook.com/events/1383663464981394/
URL:https://www.facebook.com/events/1383663464981394/
CONTACT:
ORGANIZER;CN="Adrian Krezlik":https://www.grasshopper3d.com/profile/Ad
 rianKrezlik
ATTACH;FMTTYPE="image/jpeg":http://storage.ning.com/topology/rest/1.0/
 file/get/2829570256?profile=original
ATTENDEE;ROLE=REQ-PARTICIPANT;PARTSTAT=ACCEPTED;RSVP=TRUE;CN="Adrian K
 rezlik":https://www.grasshopper3d.com/profile/AdrianKrezlik
ATTENDEE;ROLE=REQ-PARTICIPANT;PARTSTAT=TENTATIVE;RSVP=TRUE;CN="Ewa Kus
 ":https://www.grasshopper3d.com/profile/EwaKus
END:VEVENT
END:VCALENDAR
