BEGIN:VCALENDAR
PRODID:NingEventWidget-v1
VERSION:2.0
METHOD:PUBLISH
BEGIN:VTIMEZONE
TZID:America/Boise
X-LIC-LOCATION:America/Boise
BEGIN:DAYLIGHT
TZOFFSETFROM:-0700
TZOFFSETTO:-0600
TZNAME:MDT
DTSTART:19700308T020000
RRULE:FREQ=YEARLY;BYMONTH=3;BYDAY=2SU
END:DAYLIGHT
BEGIN:STANDARD
TZOFFSETFROM:-0600
TZOFFSETTO:-0700
TZNAME:MST
DTSTART:19701101T020000
RRULE:FREQ=YEARLY;BYMONTH=11;BYDAY=1SU
END:STANDARD
END:VTIMEZONE
BEGIN:VEVENT
UID:2985220:Event:2077881
DTSTAMP:20260423T213532Z
SUMMARY:BUILDING SYSTEM SPECIALIST by PAZ ACADEMY
DESCRIPTION:\n\nCHANGE YOUR PROFESSIONAL LIFE ;D !!!\nHERE THE ROAD FR
 OM BIM USER TO COMPUTATIONAL DESIGNER ;D !!!\nJOIN TO THE AMAZING PAZ 
 NET ;D !!!\nONLY FOR CURIOUS MINDS :) !!!!\n\nFor more information vis
 it https://www.grasshopper3d.com/events/building-system-specialist-by-
 paz-academy
DTSTART;TZID=America/Boise:20200801T000000
DTEND;TZID=America/Boise:20201130T235900
CATEGORIES:90, hours, online, title
LOCATION:EARTH
WEBSITE:https://pazacademy.xyz/
URL:https://pazacademy.xyz/
CONTACT:+41762840076
ORGANIZER;CN="Andrés Velasco Muro":https://www.grasshopper3d.com/prof
 ile/AndresVelascoMuro
ATTACH;FMTTYPE="image/jpeg":https://storage.ning.com/topology/rest/1.0
 /file/get/7156540081?profile=original
ATTENDEE;ROLE=REQ-PARTICIPANT;PARTSTAT=ACCEPTED;RSVP=TRUE;CN=Moore:htt
 ps://www.grasshopper3d.com/profile/Moore
ATTENDEE;ROLE=REQ-PARTICIPANT;PARTSTAT=ACCEPTED;RSVP=TRUE;CN="Andrés 
 Velasco Muro":https://www.grasshopper3d.com/profile/AndresVelascoMuro
END:VEVENT
END:VCALENDAR
