BEGIN:VCALENDAR
PRODID:NingEventWidget-v1
VERSION:2.0
METHOD:PUBLISH
BEGIN:VTIMEZONE
TZID:America/Boise
X-LIC-LOCATION:America/Boise
BEGIN:DAYLIGHT
TZOFFSETFROM:-0700
TZOFFSETTO:-0600
TZNAME:MDT
DTSTART:19700308T020000
RRULE:FREQ=YEARLY;BYMONTH=3;BYDAY=2SU
END:DAYLIGHT
BEGIN:STANDARD
TZOFFSETFROM:-0600
TZOFFSETTO:-0700
TZNAME:MST
DTSTART:19701101T020000
RRULE:FREQ=YEARLY;BYMONTH=11;BYDAY=1SU
END:STANDARD
END:VTIMEZONE
BEGIN:VEVENT
UID:2985220:Event:2120342
DTSTAMP:20260422T104705Z
SUMMARY:BSS - RHINO INSDIDE REVIT
DESCRIPTION:BSS - Building System Specialist is a unique 4-month essen
 tial Title for those who want to have access to the unlimited design t
 ools such as grasshopper inside BIM Softwares.  BSS focuses on the pow
 erful Rhino.Inside.Revit plugin with numerous interoperability connect
 ions to become #BIMlingual!  BSS will not only lift you over Revit BIM
  limitations, it will provide you with a deep understanding of visual 
 scripting and working methods to organize your daily work!  Fully pers
 onalized, challenging on a visual and exciting platform, being part of
  the professional #PAZNET!  Join our winter edition from December 1st!
 \n\nFor more information visit https://www.grasshopper3d.com/events/bs
 s-rhino-insdide-revit
DTSTART;TZID=America/Boise:20201201T090000
DTEND;TZID=America/Boise:20210331T170000
CATEGORIES:online, bss, title
LOCATION:ONLINE
WEBSITE:https://rhre.pazacademy.xyz/register-form/
URL:https://rhre.pazacademy.xyz/register-form/
CONTACT:
ORGANIZER;CN="Andrés Velasco Muro":https://www.grasshopper3d.com/prof
 ile/AndresVelascoMuro
ATTACH;FMTTYPE="image/jpeg":https://storage.ning.com/topology/rest/1.0
 /file/get/8170456487?profile=original
ATTENDEE;ROLE=REQ-PARTICIPANT;PARTSTAT=ACCEPTED;RSVP=TRUE;CN="Andrés 
 Velasco Muro":https://www.grasshopper3d.com/profile/AndresVelascoMuro
END:VEVENT
END:VCALENDAR
