BEGIN:VCALENDAR
PRODID:NingEventWidget-v1
VERSION:2.0
METHOD:PUBLISH
BEGIN:VTIMEZONE
TZID:America/Boise
X-LIC-LOCATION:America/Boise
BEGIN:DAYLIGHT
TZOFFSETFROM:-0700
TZOFFSETTO:-0600
TZNAME:MDT
DTSTART:19700308T020000
RRULE:FREQ=YEARLY;BYMONTH=3;BYDAY=2SU
END:DAYLIGHT
BEGIN:STANDARD
TZOFFSETFROM:-0600
TZOFFSETTO:-0700
TZNAME:MST
DTSTART:19701101T020000
RRULE:FREQ=YEARLY;BYMONTH=11;BYDAY=1SU
END:STANDARD
END:VTIMEZONE
BEGIN:VEVENT
UID:2985220:Event:972862
DTSTAMP:20260423T230712Z
SUMMARY:BLINDSPOT Initiative // 10 Workshops
DESCRIPTION:Blindspot Initiative exhibits and shares the work and res
 earch of a range 10 Los Angeles designers, each redefining the blurry 
 landscape of their disciplines.\nAn essential part of the Blindspot In
 itiative are three weekends of outstanding Blindspot Workshops. Each o
 f the 10 exhibitors is offering two six hour sessions wherein supporte
 rs will be able to experience the ideas directly from the creators. Th
 e line up of Blindspot Workshops covers a wide range of architecturall
 y driven topics: game design, visualizing data, Processing, robotics, 
 inflatables, Maya, inventing landscapes, visualizing sound...our exhib
 itors will be sharing their techniques and practices as well as collab
 orating with participants.\nRegister for the Blindspot Workshops via 
 Kickstarter\n\nFor more information visit https://www.grasshopper3d.co
 m/events/blindspot-initiative-10-workshops
DTSTART;TZID=America/Boise:20131213T000000
DTEND;TZID=America/Boise:20140106T235900
CATEGORIES:workshop, "los angeles", exhibition, open-source, publicati
 on
LOCATION:Los Angeles, CA
WEBSITE:https://www.facebook.com/blindspotinitiative
URL:https://www.facebook.com/blindspotinitiative
CONTACT:323.382.8939
ORGANIZER:Somewhere Something & Plethora Project
ATTACH;FMTTYPE="image/jpeg":http://storage.ning.com/topology/rest/1.0/
 file/get/2828428424?profile=original
ATTENDEE;ROLE=REQ-PARTICIPANT;PARTSTAT=ACCEPTED;RSVP=TRUE;CN="Somewher
 e Something":https://www.grasshopper3d.com/profile/SomewhereSomething
END:VEVENT
END:VCALENDAR
