BEGIN:VCALENDAR
PRODID:NingEventWidget-v1
VERSION:2.0
METHOD:PUBLISH
BEGIN:VTIMEZONE
TZID:America/Boise
X-LIC-LOCATION:America/Boise
BEGIN:DAYLIGHT
TZOFFSETFROM:-0700
TZOFFSETTO:-0600
TZNAME:MDT
DTSTART:19700308T020000
RRULE:FREQ=YEARLY;BYMONTH=3;BYDAY=2SU
END:DAYLIGHT
BEGIN:STANDARD
TZOFFSETFROM:-0600
TZOFFSETTO:-0700
TZNAME:MST
DTSTART:19701101T020000
RRULE:FREQ=YEARLY;BYMONTH=11;BYDAY=1SU
END:STANDARD
END:VTIMEZONE
BEGIN:VEVENT
UID:2985220:Event:130439
DTSTAMP:20260424T182225Z
SUMMARY:automatic-architecture
DESCRIPTION:automatic-architecture focuses on computational design in 
 real estate development using Grasshopper.\n\nThere's a two day worksh
 op and one day congress to discuss results.\n\nSubscription is open no
 w!\n\nFor more information visit https://www.grasshopper3d.com/events/
 automaticarchitecture-1
DTSTART;TZID=America/Boise:20101215T000000
DTEND;TZID=America/Boise:20101217T235900
CATEGORIES:grasshopper, workshop
LOCATION:TU Delft, Netherlands
WEBSITE:http://www.automatic-architecture.nl
URL:http://www.automatic-architecture.nl
CONTACT:
ORGANIZER;CN="pim marsman":https://www.grasshopper3d.com/profile/pimma
 rsman
ATTACH;FMTTYPE="image/jpeg":http://storage.ning.com/topology/rest/1.0/
 file/get/2827736868?profile=original
ATTENDEE;ROLE=REQ-PARTICIPANT;PARTSTAT=ACCEPTED;RSVP=TRUE;CN="Dimitrie
  Stefanescu @idid":https://www.grasshopper3d.com/profile/DimitrieStefa
 nescu
ATTENDEE;ROLE=REQ-PARTICIPANT;PARTSTAT=ACCEPTED;RSVP=TRUE;CN="pim mars
 man":https://www.grasshopper3d.com/profile/pimmarsman
ATTENDEE;ROLE=REQ-PARTICIPANT;PARTSTAT=TENTATIVE;RSVP=TRUE;CN="Ali Tab
 atabai":https://www.grasshopper3d.com/profile/AliTabatabai
ATTENDEE;ROLE=REQ-PARTICIPANT;PARTSTAT=TENTATIVE;RSVP=TRUE;CN="Jon Mir
 tschin":https://www.grasshopper3d.com/profile/JonMirtschin
END:VEVENT
END:VCALENDAR
