BEGIN:VCALENDAR
PRODID:NingEventWidget-v1
VERSION:2.0
METHOD:PUBLISH
BEGIN:VTIMEZONE
TZID:America/Boise
X-LIC-LOCATION:America/Boise
BEGIN:DAYLIGHT
TZOFFSETFROM:-0700
TZOFFSETTO:-0600
TZNAME:MDT
DTSTART:19700308T020000
RRULE:FREQ=YEARLY;BYMONTH=3;BYDAY=2SU
END:DAYLIGHT
BEGIN:STANDARD
TZOFFSETFROM:-0600
TZOFFSETTO:-0700
TZNAME:MST
DTSTART:19701101T020000
RRULE:FREQ=YEARLY;BYMONTH=11;BYDAY=1SU
END:STANDARD
END:VTIMEZONE
BEGIN:VEVENT
UID:2985220:Event:2072346
DTSTAMP:20260422T090629Z
SUMMARY:Artistic residencies at ZHDK's ICST (Zurich)
DESCRIPTION:Deadline September 12th 2020.https://air-icst.zhdk.ch\n4 r
 esidencies:Residency A: Studio / AmbisonicsResidency B: Tempo Polyphon
 yResidency C: Telematic Performance FormatResidency D: Immersive Arts\
 nThis year, the \"Immersive Arts\" is oriented towards architectural d
 esign + sound/music.\n\nFor more information visit https://www.grassho
 pper3d.com/events/artistic-residencies-at-zhdk-s-icst-zurich
DTSTART;TZID=America/Boise:20200912T120000
DTEND;TZID=America/Boise:20200912T130000
CATEGORIES:artistic, residency, deadline
LOCATION:ZHDK (https://www.zhdk.ch)
WEBSITE:https://air-icst.zhdk.ch
URL:https://air-icst.zhdk.ch
CONTACT:
ORGANIZER;CN="Olivier Pasquet":https://www.grasshopper3d.com/profile/o
 pasquet
ATTACH;FMTTYPE="image/jpeg":https://storage.ning.com/topology/rest/1.0
 /file/get/6198408853?profile=original
ATTENDEE;ROLE=REQ-PARTICIPANT;PARTSTAT=ACCEPTED;RSVP=TRUE;CN="Olivier 
 Pasquet":https://www.grasshopper3d.com/profile/opasquet
END:VEVENT
END:VCALENDAR
