BEGIN:VCALENDAR
PRODID:NingEventWidget-v1
VERSION:2.0
METHOD:PUBLISH
BEGIN:VTIMEZONE
TZID:America/Boise
X-LIC-LOCATION:America/Boise
BEGIN:DAYLIGHT
TZOFFSETFROM:-0700
TZOFFSETTO:-0600
TZNAME:MDT
DTSTART:19700308T020000
RRULE:FREQ=YEARLY;BYMONTH=3;BYDAY=2SU
END:DAYLIGHT
BEGIN:STANDARD
TZOFFSETFROM:-0600
TZOFFSETTO:-0700
TZNAME:MST
DTSTART:19701101T020000
RRULE:FREQ=YEARLY;BYMONTH=11;BYDAY=1SU
END:STANDARD
END:VTIMEZONE
BEGIN:VEVENT
UID:2985220:Event:1329542
DTSTAMP:20260424T165641Z
SUMMARY:Arquitectura Generativa
DESCRIPTION:Este taller está dirigido a estudiantes y profesionales d
 el diseño, arquitectura e ingeniería interesados en aprender una de 
 las herramientas más potentes y eficientes de modelado tridimensional
  que existe actualmente en el mercado. Basada en geometrías NURBS, pe
 rmite modelar formas orgánicas y fluidas a la vez que te ofrece infor
 mación precisa para su construcción También podrás aprender las he
 rramientas y criterios básicos de diseño paramétrico mediante el Pl
 ugin Grasshopper de Rhino, que te permitirá explorar formas complejas
  mediante algoritmos generativos, con resultados asombrosos.\n\nFor mo
 re information visit https://www.grasshopper3d.com/events/arquitectura
 -generativa
DTSTART;TZID=America/Boise:20150821T000000
DTEND;TZID=America/Boise:20150822T235900
CATEGORIES:workshop
LOCATION:CC. Bello Campo, Chacao, Caracas.
WEBSITE:
URL:
CONTACT:+58 412 7351381
ORGANIZER;CN="Carlos Eduardo Castro":https://www.grasshopper3d.com/pro
 file/CarlosCastro
ATTACH;FMTTYPE="image/jpeg":http://storage.ning.com/topology/rest/1.0/
 file/get/2829008658?profile=original
ATTENDEE;ROLE=REQ-PARTICIPANT;PARTSTAT=ACCEPTED;RSVP=TRUE;CN="Carlos E
 duardo Castro":https://www.grasshopper3d.com/profile/CarlosCastro
END:VEVENT
END:VCALENDAR
