BEGIN:VCALENDAR
PRODID:NingEventWidget-v1
VERSION:2.0
METHOD:PUBLISH
BEGIN:VTIMEZONE
TZID:America/Boise
X-LIC-LOCATION:America/Boise
BEGIN:DAYLIGHT
TZOFFSETFROM:-0700
TZOFFSETTO:-0600
TZNAME:MDT
DTSTART:19700308T020000
RRULE:FREQ=YEARLY;BYMONTH=3;BYDAY=2SU
END:DAYLIGHT
BEGIN:STANDARD
TZOFFSETFROM:-0600
TZOFFSETTO:-0700
TZNAME:MST
DTSTART:19701101T020000
RRULE:FREQ=YEARLY;BYMONTH=11;BYDAY=1SU
END:STANDARD
END:VTIMEZONE
BEGIN:VEVENT
UID:2985220:Event:1594480
DTSTAMP:20260422T014659Z
SUMMARY:Architecture summer school BL 2016
DESCRIPTION:New pipelines, new workflows, new paper for new pen needs 
 to be invented, because gaming engines are coming to schools of archit
 ecture. Virtual reality will be, or better say, is already, a new way 
 of making architecture.  During a workshop we will develop a workflow 
 from modelling software Rhinoceros3D and its Parametric plugin Grassho
 pper3D to gaming engine Unreal Engine 4.12.  We will develop algorithm
 s for temporary structures, baked them to geometry and import these to
  virtual reality. At the end, we will bring 1:1 scaled environment rev
 ived with HTC Vive and Oculus. Users will interact with our projects. 
  Abandoned industrial zone is our environment, our imagined location. 
 Our playground. 15 projects from 15 students, walkable in virtual rea
 lity is our goal at the workshop.  We will go from scripting, modelin
 g and texturing to scripting with blueprints in gaming engine, so some
  advanced skills of modeling are needed. However, they are not mandato
 ry, so bring your ideas and motivation for hard work and you are in. W
 e will help you develop your ideas.  But be careful what you wish, it 
 could be life changing....  Application could be submitted on our webs
 ite www.aggfbl.org/workshops/summerschool2016  Application deadline i
 s October 1st 2016.  Max. number of participants is 15.\n\n\n\n\nFor m
 ore information visit https://www.grasshopper3d.com/events/architectur
 e-summer-school-bl-2016
DTSTART;TZID=America/Boise:20161004T000000
DTEND;TZID=America/Boise:20161007T235900
CATEGORIES:workshop
LOCATION:Bosnia and Herzegovina
WEBSITE:http://aggfbl.org/workshops/summerschool2016
URL:http://aggfbl.org/workshops/summerschool2016
CONTACT:
ORGANIZER;CN="Igor Mitrić Lavovski":https://www.grasshopper3d.com/pro
 file/Igor425
ATTACH;FMTTYPE="image/jpeg":http://storage.ning.com/topology/rest/1.0/
 file/get/2829479580?profile=original
ATTENDEE;ROLE=REQ-PARTICIPANT;PARTSTAT=ACCEPTED;RSVP=TRUE;CN=Stefan:ht
 tps://www.grasshopper3d.com/profile/Stefan363
ATTENDEE;ROLE=REQ-PARTICIPANT;PARTSTAT=ACCEPTED;RSVP=TRUE;CN="Emir Sal
 kic":https://www.grasshopper3d.com/profile/emirsalkic
ATTENDEE;ROLE=REQ-PARTICIPANT;PARTSTAT=ACCEPTED;RSVP=TRUE;CN="Maja Ili
 c":https://www.grasshopper3d.com/profile/MajaIlic
ATTENDEE;ROLE=REQ-PARTICIPANT;PARTSTAT=ACCEPTED;RSVP=TRUE;CN="Dragana 
 Tepic":https://www.grasshopper3d.com/profile/DraganaTepic
ATTENDEE;ROLE=REQ-PARTICIPANT;PARTSTAT=ACCEPTED;RSVP=TRUE;CN="Igor Mit
 rić Lavovski":https://www.grasshopper3d.com/profile/Igor425
END:VEVENT
END:VCALENDAR
