BEGIN:VCALENDAR
PRODID:NingEventWidget-v1
VERSION:2.0
METHOD:PUBLISH
BEGIN:VTIMEZONE
TZID:America/Boise
X-LIC-LOCATION:America/Boise
BEGIN:DAYLIGHT
TZOFFSETFROM:-0700
TZOFFSETTO:-0600
TZNAME:MDT
DTSTART:19700308T020000
RRULE:FREQ=YEARLY;BYMONTH=3;BYDAY=2SU
END:DAYLIGHT
BEGIN:STANDARD
TZOFFSETFROM:-0600
TZOFFSETTO:-0700
TZNAME:MST
DTSTART:19701101T020000
RRULE:FREQ=YEARLY;BYMONTH=11;BYDAY=1SU
END:STANDARD
END:VTIMEZONE
BEGIN:VEVENT
UID:2985220:Event:100696
DTSTAMP:20260423T212935Z
SUMMARY:Architecture in Combination with Visualization
DESCRIPTION:The Studio for Progressive Modelling would like to invite 
 you to the next Architecture in Combination event, to be held on Oct 7
 th, 5:30pm @ 207 Queen’s Quay W, Suite 550 .\n\nOur topic will be th
 e role of visualization as a means to convey information in the AEC in
 dustry. To complement this discussion, Dave Trautrimas will present so
 me of his work and process, including the critically acclaimed Spyfros
 t Project.\n\nPlease RSVP to spm@halcrowyolles.com if you would like t
 o attend this event.\n\nFor more information visit https://www.grassho
 pper3d.com/events/architecture-in-combination-3
DTSTART;TZID=America/Boise:20100928T180000
DTEND;TZID=America/Boise:20100928T190000
CATEGORIES:discussion, series
LOCATION:Toronto, Canada
WEBSITE:http://architectureincombination.wordpress.com
URL:http://architectureincombination.wordpress.com
CONTACT:
ORGANIZER;CN="Daniel Hambleton":https://www.grasshopper3d.com/profile/
 DanielHambleton
ATTACH;FMTTYPE="image/jpeg":http://storage.ning.com/topology/rest/1.0/
 file/get/2827726195?profile=original
ATTENDEE;ROLE=REQ-PARTICIPANT;PARTSTAT=ACCEPTED;RSVP=TRUE;CN="Daniel H
 ambleton":https://www.grasshopper3d.com/profile/DanielHambleton
END:VEVENT
END:VCALENDAR
