BEGIN:VCALENDAR
PRODID:NingEventWidget-v1
VERSION:2.0
METHOD:PUBLISH
BEGIN:VTIMEZONE
TZID:America/Boise
X-LIC-LOCATION:America/Boise
BEGIN:DAYLIGHT
TZOFFSETFROM:-0700
TZOFFSETTO:-0600
TZNAME:MDT
DTSTART:19700308T020000
RRULE:FREQ=YEARLY;BYMONTH=3;BYDAY=2SU
END:DAYLIGHT
BEGIN:STANDARD
TZOFFSETFROM:-0600
TZOFFSETTO:-0700
TZNAME:MST
DTSTART:19701101T020000
RRULE:FREQ=YEARLY;BYMONTH=11;BYDAY=1SU
END:STANDARD
END:VTIMEZONE
BEGIN:VEVENT
UID:2985220:Event:68184
DTSTAMP:20260421T070756Z
SUMMARY:Architecture in Combination with Complexity
DESCRIPTION:The Studio for Progressive Modeling would like to invite y
 ou to the third Architecture in Combination discussion.\n\nIf you're i
 nterested in attending, please contact:\n\nspm \"at\" halcrowyolles.co
 m\n\nFor more information visit https://www.grasshopper3d.com/events/a
 rchitecture-in-combination-2
DTSTART;TZID=America/Boise:20100610T173000
DTEND;TZID=America/Boise:20100610T190000
CATEGORIES:discussion, series
LOCATION:Toronto
WEBSITE:
URL:
CONTACT:
ORGANIZER:Studio for Progressive Modeling
ATTACH;FMTTYPE="image/jpeg":http://storage.ning.com/topology/rest/1.0/
 file/get/2827706816?profile=original
ATTENDEE;ROLE=REQ-PARTICIPANT;PARTSTAT=ACCEPTED;RSVP=TRUE;CN="Daniel H
 ambleton":https://www.grasshopper3d.com/profile/DanielHambleton
END:VEVENT
END:VCALENDAR
