BEGIN:VCALENDAR
PRODID:NingEventWidget-v1
VERSION:2.0
METHOD:PUBLISH
BEGIN:VTIMEZONE
TZID:America/Boise
X-LIC-LOCATION:America/Boise
BEGIN:DAYLIGHT
TZOFFSETFROM:-0700
TZOFFSETTO:-0600
TZNAME:MDT
DTSTART:19700308T020000
RRULE:FREQ=YEARLY;BYMONTH=3;BYDAY=2SU
END:DAYLIGHT
BEGIN:STANDARD
TZOFFSETFROM:-0600
TZOFFSETTO:-0700
TZNAME:MST
DTSTART:19701101T020000
RRULE:FREQ=YEARLY;BYMONTH=11;BYDAY=1SU
END:STANDARD
END:VTIMEZONE
BEGIN:VEVENT
UID:2985220:Event:1426010
DTSTAMP:20260424T195427Z
SUMMARY:ARCHITECTURAL ASSOCIATION VISITING SCHOOL RIO DE JANEIRO WORKS
 HOP:   Rio to Tokyo Interactive
DESCRIPTION:Led by Japanese interactive digital-architect Seiichi Sait
 o of Rhizomatiks, who has created a series of digitally immersive proj
 ects, such as the computationally enhanced interactive treadmill play
 -scape of the Gatorade Run – Fun Race Machine(https://www.youtube.c
 om/watch?v=S8RIMVhdgIk), and the interactive digitally informed Nike +
  Fuelband-Wristband Interactive Video-Mapping Projection Concert at a
 t Battersea Power Station(https://vimeo.com/70791746), the AA Visiting
  School Rio de Janeiro 10-day intensive workshop will focus on how sp
 orts infrastructure can be informed and transformed by scanned body da
 ta so to both illustrate and improve human athletic capacity and inter
 actively engage the spectator. Students will use theTokyo 2020 Olympic
  stadium as a testing ground for the creation of a new type of intelli
 gent and interactive sports architecture. The workshop will teach eyeb
 all and brain scanning, interactive coding, and parametric digital des
 ign and fabrication using Rhino and Grasshopper, to create a post-rob
 otic morphing between the sensibility of the body and novel comput
 ational innovation, between Rio de Janeiro 2016 and Tokyo 2020. All so
 ftware will be taught from beginning level, no previous experience nee
 ded. \nAPPLICATIONS:\nhttp://rio.aaschool.ac.uk/2016-aa-rio-to-tokyo-
 interactive/2016-applicationinscricoes/\n\n\nFor more information visi
 t https://www.grasshopper3d.com/events/architectural-association-visit
 ing-school-rio-de-janeiro-workshop
DTSTART;TZID=America/Boise:20160317T000000
DTEND;TZID=America/Boise:20160326T235900
CATEGORIES:workshop
LOCATION:PORTO MARAVILHA, RIO DE JANEIRO
WEBSITE:http://rio.aaschool.ac.uk
URL:http://rio.aaschool.ac.uk
CONTACT:+55 (11) 3062-3522
ORGANIZER:ARCHITECTURAL ASSOCIATION VISITING SCHOOL RIO DE JANEIRO
ATTACH;FMTTYPE="image/jpeg":http://storage.ning.com/topology/rest/1.0/
 file/get/2829181427?profile=original
ATTENDEE;ROLE=REQ-PARTICIPANT;PARTSTAT=ACCEPTED;RSVP=TRUE;CN="aNNE sAV
 E De bEAURECUEIL":https://www.grasshopper3d.com/profile/aNNEsAVEDebEAU
 RECUEIL
END:VEVENT
END:VCALENDAR
