BEGIN:VCALENDAR
PRODID:NingEventWidget-v1
VERSION:2.0
METHOD:PUBLISH
BEGIN:VTIMEZONE
TZID:America/Boise
X-LIC-LOCATION:America/Boise
BEGIN:DAYLIGHT
TZOFFSETFROM:-0700
TZOFFSETTO:-0600
TZNAME:MDT
DTSTART:19700308T020000
RRULE:FREQ=YEARLY;BYMONTH=3;BYDAY=2SU
END:DAYLIGHT
BEGIN:STANDARD
TZOFFSETFROM:-0600
TZOFFSETTO:-0700
TZNAME:MST
DTSTART:19701101T020000
RRULE:FREQ=YEARLY;BYMONTH=11;BYDAY=1SU
END:STANDARD
END:VTIMEZONE
BEGIN:VEVENT
UID:2985220:Event:168656
DTSTAMP:20260424T153137Z
SUMMARY:Architectural Association Rio de Janeiro Visiting School Desig
 n Workshop
DESCRIPTION:Following up on the AA/NAi Visiting School São Paulo last
  July (see results: http://saopaulo.aaschool.ac.uk/?page_id=553), the 
 AA is now going to Rio de Janeiro - April 5-14, 2011!\n The 10-day wor
 kshop, open to designers worldwide, will explore the parametric mix of
  new raw materials and the re-use of elements from Carnival floats and
  costumes, transforming them using generative design processes and new
  digitally fabricated joint components, to create interventions for m
 icro-venues and urban furniture in the Porto do Rio region. \n \nTau
 ght by AA Staff, recent AA graduates, and computation and fabrication 
 professionals,  the studio-based workshop will include extensive inst
 ruction in Rhino Grasshopper (including GECO, and Galapagos, to integr
 ate environmental optimization, simulation and parametric control) and
  digital fabrication processes using laser cutter, CNC-milling and rap
 id-prototyping machines, sponsored by DS4 and SEACAM, all of which wil
 l be used to produce one-to-one design prototypes.  \nMORE INFORMATI
 ON AND APPLICATION: http://rio.aaschool.ac.uk/andhttp://www.aaschool.a
 c.uk/STUDY/VISITING/rio.php\n\nFor more information visit https://www.
 grasshopper3d.com/events/architectural-association-rio
DTSTART;TZID=America/Boise:20110405T000000
DTEND;TZID=America/Boise:20110414T235900
CATEGORIES:design, workshop
LOCATION:Barracões do Samba - Porto do Rio
WEBSITE:http://maps.google.com.br/maps?f=q&source=s_q&hl=pt-br&geocode
 =&q=Rua+de+Gamboa,+Rio+de+Janeiro&aq=&sll=-14.239424,-53.186502&sspn=5
 6.27034,33.837891&ie=UTF8&hq=&hnear=R.+da+Gamboa+-+Rio+de+Janeiro&ll=-
 22.896972,-43.18953&spn=0.02969,0.040212&z=15
URL:http://maps.google.com.br/maps?f=q&source=s_q&hl=pt-br&geocode=&q=
 Rua+de+Gamboa,+Rio+de+Janeiro&aq=&sll=-14.239424,-53.186502&sspn=56.27
 034,33.837891&ie=UTF8&hq=&hnear=R.+da+Gamboa+-+Rio+de+Janeiro&ll=-22.8
 96972,-43.18953&spn=0.02969,0.040212&z=15
CONTACT:55 11 96 69 69 67
ORGANIZER:ARCHITECTURAL ASSOCIATION BRASIL VISITING SCHOOLS
ATTACH;FMTTYPE="image/jpeg":http://storage.ning.com/topology/rest/1.0/
 file/get/2827765417?profile=original
ATTENDEE;ROLE=REQ-PARTICIPANT;PARTSTAT=ACCEPTED;RSVP=TRUE;CN="Victor S
 ardenberg":https://www.grasshopper3d.com/profile/VictorSardenberg
ATTENDEE;ROLE=REQ-PARTICIPANT;PARTSTAT=ACCEPTED;RSVP=TRUE;CN="aNNE sAV
 E De bEAURECUEIL":https://www.grasshopper3d.com/profile/aNNEsAVEDebEAU
 RECUEIL
END:VEVENT
END:VCALENDAR
