BEGIN:VCALENDAR
PRODID:NingEventWidget-v1
VERSION:2.0
METHOD:PUBLISH
BEGIN:VTIMEZONE
TZID:America/Boise
X-LIC-LOCATION:America/Boise
BEGIN:DAYLIGHT
TZOFFSETFROM:-0700
TZOFFSETTO:-0600
TZNAME:MDT
DTSTART:19700308T020000
RRULE:FREQ=YEARLY;BYMONTH=3;BYDAY=2SU
END:DAYLIGHT
BEGIN:STANDARD
TZOFFSETFROM:-0600
TZOFFSETTO:-0700
TZNAME:MST
DTSTART:19701101T020000
RRULE:FREQ=YEARLY;BYMONTH=11;BYDAY=1SU
END:STANDARD
END:VTIMEZONE
BEGIN:VEVENT
UID:2985220:Event:425322
DTSTAMP:20260423T160540Z
SUMMARY:ARCHITECTURAL ASSOCIATION RIO DE JANEIRO VISITING SCHOOL
DESCRIPTION:ARCHITECTURAL ASSOCIATION RIO DE JANEIRO VISITING SCHOOL -
  DECEMBER 6TH-15TH\n`CARNAVAL INTERATIVA`\n \nThe programme will work
  to empower Carnaval culture within the decaying port of Rio de Janeir
 o, the birth-place of Samba. This will allow us to negotiate with real
 -estate pressures to relocate Carnaval float fabrication away from its
  current port location near the Sambod­romo. The design workshop will
  take place at the Pimpolhos Carnaval School port warehouse, collabora
 ting with local float designers and fabricators to invent a new type o
 f interactive Carnaval float that would redefine the relationship betw
 een fabrication, performance and spectacle. Knowledge and expertise fr
 om local artisans will be combined with computational design and digit
 al fabrication techniques such as Grasshopper associative design, proc
 ess­ing, and Arduino, as well as CNC and laser cutting technologies a
 s a means to con­ceive new float designs for the people of the Carnav
 al culture.\n \nEVENTS LEADING UP TO WORKSHOP\nSEPTEMBER 22ND, 2011 :
   SYMPOSIUM – CIDADE DO SAMBA, RIO DE JANEIRO 14: 00 – 17:00 –
   LECTURES AND ROUND TABLE:\n\nFor more information visit https://www
 .grasshopper3d.com/events/architectural-association-rio-de-janeiro-vis
 iting-school
DTSTART;TZID=America/Boise:20111206T000000
DTEND;TZID=America/Boise:20111215T235900
CATEGORIES:workshop
LOCATION:PIMPOLHOS SAMBA SCHOOL
WEBSITE:http://rio.aaschool.ac.uk/
URL:http://rio.aaschool.ac.uk/
CONTACT:55 11 9669 6967
ORGANIZER;CN="aNNE sAVE De bEAURECUEIL":https://www.grasshopper3d.com/
 profile/aNNEsAVEDebEAURECUEIL
ATTACH;FMTTYPE="image/jpeg":http://api.ning.com:80/files/HgG-d0VZDPP8B
 z4D49ZZOWBB9Q53W3fcbfBUXcldtZkV21CCCplAnvh7r9ze1ANYbONjCWF6eAexDApjIWu
 KFJAdVggNFa8f/11_BY_LUCAS_DE_SORDI_AA_VS_RIO_DSC_0791web.jpg
ATTENDEE;ROLE=REQ-PARTICIPANT;PARTSTAT=ACCEPTED;RSVP=TRUE;CN="Felipe A
 ntonoff":https://www.grasshopper3d.com/profile/FelipeAntonoff
ATTENDEE;ROLE=REQ-PARTICIPANT;PARTSTAT=ACCEPTED;RSVP=TRUE;CN="aNNE sAV
 E De bEAURECUEIL":https://www.grasshopper3d.com/profile/aNNEsAVEDebEAU
 RECUEIL
END:VEVENT
END:VCALENDAR
