BEGIN:VCALENDAR
PRODID:NingEventWidget-v1
VERSION:2.0
METHOD:PUBLISH
BEGIN:VTIMEZONE
TZID:America/Boise
X-LIC-LOCATION:America/Boise
BEGIN:DAYLIGHT
TZOFFSETFROM:-0700
TZOFFSETTO:-0600
TZNAME:MDT
DTSTART:19700308T020000
RRULE:FREQ=YEARLY;BYMONTH=3;BYDAY=2SU
END:DAYLIGHT
BEGIN:STANDARD
TZOFFSETFROM:-0600
TZOFFSETTO:-0700
TZNAME:MST
DTSTART:19701101T020000
RRULE:FREQ=YEARLY;BYMONTH=11;BYDAY=1SU
END:STANDARD
END:VTIMEZONE
BEGIN:VEVENT
UID:2985220:Event:1781613
DTSTAMP:20260423T104253Z
SUMMARY:Architectural Association Greece Visiting School | ADAPTATION
DESCRIPTION:\nIVI, the architectural interactive prototype from the Ar
 chitectural Association Greece Visiting School in Chania (http://greec
 e.aaschool.ac.uk/) is travelling to Berlin as part of the Adaptation e
 xpo.\nAdaptation (http://agile-iot.eu/adaptation) will be hosted as a 
 satellite event with Tech Open Air, a yearly festival held in Berlin o
 f around ideas of tech, music, art and science. The exhibition will be
  held in Agora Rollberg, an experimental center for sustainable and ar
 tistic practices in the heart of Neukölln. \nSchedule: Opening: 11th
  July 6pm-10pm Exhibition: 12th-14th July, 10am-6pm\nGet your free tic
 ket at: https://www.eventbrite.de/e/using-iot-to-create-art-using-art
 -to-envision-iot-tickets-33497054592\nThe continuously developing AA V
 isiting School that takes place successfully on a global scale during 
 the recent years and promotes a cosmopolitan pedagogical approach had 
 visited the city of Chania. Under the theme “Progressions”, IVI ha
 s been the output of the intense workshop dealing with generative arch
 itectural design and digital fabrication techniques where architectura
 l students and architects participated from Greece and abroad.\nThe pr
 oject was designed and realized in Lektorio studio space in the old ci
 ty district of Chania. The completed installation was also presented a
 t the exhibition space of Sabbionara Gate of the Centre for Mediterran
 ean Architecture, co-organized by the Municipality of Chania and KEPPE
 DICH KAM enabling public visits.\n\nFor more information visit https:/
 /www.grasshopper3d.com/events/architectural-association-greece-visitin
 g-school-adaptation
DTSTART;TZID=America/Boise:20170712T100000
DTEND;TZID=America/Boise:20170714T180000
CATEGORIES:exhibition
LOCATION:Agora Rollberg
WEBSITE:http://greece.aaschool.ac.uk/
URL:http://greece.aaschool.ac.uk/
CONTACT:
ORGANIZER;CN="Alexandros Kallegias":https://www.grasshopper3d.com/prof
 ile/AlexandrosKallegias
ATTACH;FMTTYPE="image/jpeg":http://storage.ning.com/topology/rest/1.0/
 file/get/2829815601?profile=original
ATTENDEE;ROLE=REQ-PARTICIPANT;PARTSTAT=ACCEPTED;RSVP=TRUE;CN="Alexandr
 os Kallegias":https://www.grasshopper3d.com/profile/AlexandrosKallegia
 s
END:VEVENT
END:VCALENDAR
