BEGIN:VCALENDAR
PRODID:NingEventWidget-v1
VERSION:2.0
METHOD:PUBLISH
BEGIN:VTIMEZONE
TZID:America/Boise
X-LIC-LOCATION:America/Boise
BEGIN:DAYLIGHT
TZOFFSETFROM:-0700
TZOFFSETTO:-0600
TZNAME:MDT
DTSTART:19700308T020000
RRULE:FREQ=YEARLY;BYMONTH=3;BYDAY=2SU
END:DAYLIGHT
BEGIN:STANDARD
TZOFFSETFROM:-0600
TZOFFSETTO:-0700
TZNAME:MST
DTSTART:19701101T020000
RRULE:FREQ=YEARLY;BYMONTH=11;BYDAY=1SU
END:STANDARD
END:VTIMEZONE
BEGIN:VEVENT
UID:2985220:Event:1545459
DTSTAMP:20260424T050848Z
SUMMARY:Aprende Grasshopper “Patrones Paramétricos” - Intensivo V
 erano 2016
DESCRIPTION:https://www.youtube.com/watch?v=YadPcXxuKsA\n\nPatrones Pa
 ramétricos Taller de Grasshopper – Intensivo de Verano- del 11 al 1
 5 de Julio 2016\nEn colaboración con Kano Shop\nA través del diseño
  de patrones y retículas aprenderás a modelar parametricamente con R
 hinoceros + Grasshopper para aplicarlo a la manufactura digital en lá
 ser y/o CNC. El taller se desarrolla a lo largo de 5 clases y una pres
 entación donde los talleristas presentarán una pieza cortada con lá
 ser o CNC.\nLOS PRECIOS SON EN DOLARES. OFRECEMOS PAQUETES CON EL TALL
 ER Y LA LICENCIA DE RHINO COMERCIAL Y EDUCACIONAL\n\nFor more informat
 ion visit https://www.grasshopper3d.com/events/aprende-grasshopper-pat
 rones-param-tricos-intensivo-verano-2016
DTSTART;TZID=America/Boise:20160711T040000
DTEND;TZID=America/Boise:20160715T210000
CATEGORIES:curso, intensivo, presencial, grasshopper, rhino, mexico
LOCATION:Dimensión N
WEBSITE:http://dimensionn.mx/2015/course/grasshopper-1-aprende-grassho
 pper/
URL:http://dimensionn.mx/2015/course/grasshopper-1-aprende-grasshopper
 /
CONTACT:55 50 160634
ORGANIZER:Dimensión N
ATTACH;FMTTYPE="image/jpeg":http://storage.ning.com/topology/rest/1.0/
 file/get/2829141684?profile=original
ATTENDEE;ROLE=REQ-PARTICIPANT;PARTSTAT=ACCEPTED;RSVP=TRUE;CN="Rafael R
 amos":https://www.grasshopper3d.com/profile/RafaelRamos
ATTENDEE;ROLE=REQ-PARTICIPANT;PARTSTAT=ACCEPTED;RSVP=TRUE;CN="Javier M
  Gaxiola":https://www.grasshopper3d.com/profile/JavierMGaxiola
END:VEVENT
END:VCALENDAR
