BEGIN:VCALENDAR
PRODID:NingEventWidget-v1
VERSION:2.0
METHOD:PUBLISH
BEGIN:VTIMEZONE
TZID:America/Boise
X-LIC-LOCATION:America/Boise
BEGIN:DAYLIGHT
TZOFFSETFROM:-0700
TZOFFSETTO:-0600
TZNAME:MDT
DTSTART:19700308T020000
RRULE:FREQ=YEARLY;BYMONTH=3;BYDAY=2SU
END:DAYLIGHT
BEGIN:STANDARD
TZOFFSETFROM:-0600
TZOFFSETTO:-0700
TZNAME:MST
DTSTART:19701101T020000
RRULE:FREQ=YEARLY;BYMONTH=11;BYDAY=1SU
END:STANDARD
END:VTIMEZONE
BEGIN:VEVENT
UID:2985220:Event:1636253
DTSTAMP:20260424T065355Z
SUMMARY:Aprende Grasshopper “Patrones Paramétricos” - Intensivo I
 nvierno 2016
DESCRIPTION:\nPatrones Paramétricos Taller de Grasshopper – Intensi
 vo de Invierno En colaboración con D.I Pedro Cerisola.\nDel 1° al 4 
 de Dicembre\nHorario: Jueves y Viernes de 4 a 9 pm\n            
  Sabado y Domingo de 10 a 2 pm\n A través del diseño de patrones y 
 retículas aprenderás a modelar parametricamente con Rhinoceros + Gra
 sshopper para aplicarlo a la manufactura digital en láser y/o CNC par
 a aplicarlo en Diseño Industrial, Gráfico, Arquitectura y Artes Plas
 ticas o Visuales. El taller se desarrolla a lo largo de 4 clases y una
  presentación donde los talleristas presentarán una pieza cortada co
 n láser o CNC.\n$3500. Pesos Mexicanos\n OFRECEMOS PAQUETES CON EL TA
 LLER Y LA LICENCIA DE RHINO COMERCIAL Y EDUCACIONAL\n\n\nFor more info
 rmation visit https://www.grasshopper3d.com/events/aprende-grasshopper
 -patrones-param-tricos-intensivo-invierno-2016
DTSTART;TZID=America/Boise:20161201T040000
DTEND;TZID=America/Boise:20161204T140000
CATEGORIES:curso, intensivo, presencial, grasshopper, rhino, mexico
LOCATION:Dimensión N
WEBSITE:http://dimensionn.mx/2015/course/grasshopper-1-aprende-grassho
 pper/
URL:http://dimensionn.mx/2015/course/grasshopper-1-aprende-grasshopper
 /
CONTACT:55 50 160634
ORGANIZER:Dimensión N
ATTACH;FMTTYPE="image/jpeg":http://storage.ning.com/topology/rest/1.0/
 file/get/2829558442?profile=original
ATTENDEE;ROLE=REQ-PARTICIPANT;PARTSTAT=ACCEPTED;RSVP=TRUE;CN="Javier M
  Gaxiola":https://www.grasshopper3d.com/profile/JavierMGaxiola
END:VEVENT
END:VCALENDAR
