BEGIN:VCALENDAR
PRODID:NingEventWidget-v1
VERSION:2.0
METHOD:PUBLISH
BEGIN:VTIMEZONE
TZID:America/Boise
X-LIC-LOCATION:America/Boise
BEGIN:DAYLIGHT
TZOFFSETFROM:-0700
TZOFFSETTO:-0600
TZNAME:MDT
DTSTART:19700308T020000
RRULE:FREQ=YEARLY;BYMONTH=3;BYDAY=2SU
END:DAYLIGHT
BEGIN:STANDARD
TZOFFSETFROM:-0600
TZOFFSETTO:-0700
TZNAME:MST
DTSTART:19701101T020000
RRULE:FREQ=YEARLY;BYMONTH=11;BYDAY=1SU
END:STANDARD
END:VTIMEZONE
BEGIN:VEVENT
UID:2985220:Event:1452959
DTSTAMP:20260422T013603Z
SUMMARY:Apero Coworking Expert - 6ème anniversaire
DESCRIPTION:Coworking Expert celebrates its sixth anniversary and orga
 nizes an aperitif to meet and talk about coworking. During this meetin
 g, the concept of coworking will be explained. Novices in the field wi
 ll be able to learn about this new way of working.\n\nFrench Coworking
  Expert fête son sixième anniversaire et organise un apéro pour se 
 rencontrer et parler du coworking. Lors de cette rencontre, le concept
  du coworking sera expliqué. Les novices en la matière pourront s'in
 itier à cette nouvelle façon de travailler.\n\n\n\nFor more informat
 ion visit https://www.grasshopper3d.com/events/apero-coworking-expert
DTSTART;TZID=America/Boise:20220923T190000
DTEND;TZID=America/Boise:20220923T210000
CATEGORIES:coworking
LOCATION:France
WEBSITE:https://www.lequaidesfuturs.fr/c/coworking/
URL:https://www.lequaidesfuturs.fr/c/coworking/
CONTACT:
ORGANIZER;CN=Mathew:https://www.grasshopper3d.com/profile/Mathew
ATTACH;FMTTYPE="image/jpeg":https://storage.ning.com/topology/rest/1.0
 /file/get/9518449890?profile=original
ATTENDEE;ROLE=REQ-PARTICIPANT;PARTSTAT=ACCEPTED;RSVP=TRUE;CN=Mathew:ht
 tps://www.grasshopper3d.com/profile/Mathew
END:VEVENT
END:VCALENDAR
