BEGIN:VCALENDAR
PRODID:NingEventWidget-v1
VERSION:2.0
METHOD:PUBLISH
BEGIN:VTIMEZONE
TZID:America/Boise
X-LIC-LOCATION:America/Boise
BEGIN:DAYLIGHT
TZOFFSETFROM:-0700
TZOFFSETTO:-0600
TZNAME:MDT
DTSTART:19700308T020000
RRULE:FREQ=YEARLY;BYMONTH=3;BYDAY=2SU
END:DAYLIGHT
BEGIN:STANDARD
TZOFFSETFROM:-0600
TZOFFSETTO:-0700
TZNAME:MST
DTSTART:19701101T020000
RRULE:FREQ=YEARLY;BYMONTH=11;BYDAY=1SU
END:STANDARD
END:VTIMEZONE
BEGIN:VEVENT
UID:2985220:Event:912430
DTSTAMP:20260420T010252Z
SUMMARY:Algorithmic thinking, Parametric Modeling and Optimization, Ap
 plies of Grasshoper
DESCRIPTION:Fablab Tehran, in collaboration with University of Tarbiat
  Modarres in Tehran, planned a  4 day workshop, focused on parametric
  modeling, optimization and fabrication by grasshopper. The agenda cov
 ers basics of grasshopper and parametric modeling, its uses in analysi
 s (using DIVA and Millipede add-ons), optimization and fabrication.\n
 for registration, please fill out Registration Form.\n\n The worksho
 p will start on Thursday, September 12th, and will go on 13th, 19th an
 d 20th.\n\nfor more info, please visit our web page:\nhttp://www.fabla
 btehran.com/2013/09/03/grasshopper-fabrication/\n\n\n \n\nFor more in
 formation visit https://www.grasshopper3d.com/events/algorithmic-think
 ing-parametric-modeling-and-optimization-applies
DTSTART;TZID=America/Boise:20130912T090000
DTEND;TZID=America/Boise:20130920T160000
CATEGORIES:workshop, primitive, grasshopper, fabrication, analysis
LOCATION:University of Tarbiat Modarres, Tehran, Iran.
WEBSITE:http://www.fablabtehran.com/2013/09/03/grasshopper-fabrication
 /
URL:http://www.fablabtehran.com/2013/09/03/grasshopper-fabrication/
CONTACT:09126103422
ORGANIZER:Ardavan Bidgoli
ATTACH;FMTTYPE="image/jpeg":http://storage.ning.com/topology/rest/1.0/
 file/get/2828356496?profile=original
ATTENDEE;ROLE=REQ-PARTICIPANT;PARTSTAT=ACCEPTED;RSVP=TRUE;CN="ardi bid
 i":https://www.grasshopper3d.com/profile/ardibidi
END:VEVENT
END:VCALENDAR
