BEGIN:VCALENDAR
PRODID:NingEventWidget-v1
VERSION:2.0
METHOD:PUBLISH
BEGIN:VTIMEZONE
TZID:America/Boise
X-LIC-LOCATION:America/Boise
BEGIN:DAYLIGHT
TZOFFSETFROM:-0700
TZOFFSETTO:-0600
TZNAME:MDT
DTSTART:19700308T020000
RRULE:FREQ=YEARLY;BYMONTH=3;BYDAY=2SU
END:DAYLIGHT
BEGIN:STANDARD
TZOFFSETFROM:-0600
TZOFFSETTO:-0700
TZNAME:MST
DTSTART:19701101T020000
RRULE:FREQ=YEARLY;BYMONTH=11;BYDAY=1SU
END:STANDARD
END:VTIMEZONE
BEGIN:VEVENT
UID:2985220:Event:582739
DTSTAMP:20260423T211417Z
SUMMARY:Algorithmic Landscapes Workshop
DESCRIPTION:Can the dichotomy between obsessive tooling and strong des
 ign agenda be overcome? Can innovative software like Grasshopper be th
 e ideal platform to marry computation, creativity and ecological think
 ing? What can be done to speed up the process? Algorithmic Design Work
 shops is a platform created by ecoLogicStudio to engage these question
 s introducing novel parametric modeling techniques in the context of a
 rchitecture and landscape design. Each event will be a opportunity for
  learning design techniques, testing new methods and debating their po
 tential applications or evolution. Architects, Landscape architects, u
 rban designers and students alike will find in the workshops a unique 
 opportunity to improve their technical skills while confronting themse
 lves with the most debated advanced design subjects.\n\nThis workshop,
  particularly suitable for beginner/intermediate users, offers a playf
 ul introduction to algorithmic and computational design with Grasshopp
 er. The ambition is to generate 3 dimensional artificial landscapes ba
 sed on the recognition of natural pattern formations (valleys, mountai
 ns, dunes, marshes, coral reefs, etc.), their subdivision in territori
 es of occupation and the development of related path systems. The work
 shop will start from processing satellite images of natural formations
  and extracting patterns from them with the GH point set reconstructio
 n tools. Applicants will than begin the process of generation of 3D ar
 chitectural landscapes based on a series of structuring operations and
  negotiations with the project site. An evaluation process will than f
 ollow and will allow the recognition of inhabitable spaces, accessible
  slopes and ground movement volumes.\n\nmore information on:\nhttp://a
 lgorithmicdesignworkshops.wordpress.com/2011/10/04/algorithmic-landsca
 pes-gh-advanced-modeling-workshop-october-2011-ecologicstudio/\n\nFor 
 more information visit https://www.grasshopper3d.com/events/algorithmi
 c-landscapes-workshop
DTSTART;TZID=America/Boise:20120521T000000
DTEND;TZID=America/Boise:20120526T235900
CATEGORIES:grasshopper, workshop
LOCATION:ecoLogicStudio office
WEBSITE:http://algorithmicdesignworkshops.wordpress.com/
URL:http://algorithmicdesignworkshops.wordpress.com/
CONTACT:
ORGANIZER:ecoLogicStudio
ATTACH;FMTTYPE="image/jpeg":http://storage.ning.com/topology/rest/1.0/
 file/get/2827995390?profile=original
ATTENDEE;ROLE=REQ-PARTICIPANT;PARTSTAT=ACCEPTED;RSVP=TRUE;CN="andrea b
 ugli":https://www.grasshopper3d.com/profile/andreabugli
END:VEVENT
END:VCALENDAR
